BEGIN:VCALENDAR
VERSION:2.0
PRODID:-//Meditation In Niagara - ECPv6.15.20//NONSGML v1.0//EN
CALSCALE:GREGORIAN
METHOD:PUBLISH
X-WR-CALNAME:Meditation In Niagara
X-ORIGINAL-URL:https://meditationinniagara.org
X-WR-CALDESC:Events for Meditation In Niagara
REFRESH-INTERVAL;VALUE=DURATION:PT1H
X-Robots-Tag:noindex
X-PUBLISHED-TTL:PT1H
BEGIN:VTIMEZONE
TZID:America/Toronto
BEGIN:DAYLIGHT
TZOFFSETFROM:-0500
TZOFFSETTO:-0400
TZNAME:EDT
DTSTART:20210314T070000
END:DAYLIGHT
BEGIN:STANDARD
TZOFFSETFROM:-0400
TZOFFSETTO:-0500
TZNAME:EST
DTSTART:20211107T060000
END:STANDARD
BEGIN:DAYLIGHT
TZOFFSETFROM:-0500
TZOFFSETTO:-0400
TZNAME:EDT
DTSTART:20220313T070000
END:DAYLIGHT
BEGIN:STANDARD
TZOFFSETFROM:-0400
TZOFFSETTO:-0500
TZNAME:EST
DTSTART:20221106T060000
END:STANDARD
BEGIN:DAYLIGHT
TZOFFSETFROM:-0500
TZOFFSETTO:-0400
TZNAME:EDT
DTSTART:20230312T070000
END:DAYLIGHT
BEGIN:STANDARD
TZOFFSETFROM:-0400
TZOFFSETTO:-0500
TZNAME:EST
DTSTART:20231105T060000
END:STANDARD
END:VTIMEZONE
BEGIN:VEVENT
DTSTART;TZID=America/Toronto:20220929T193000
DTEND;TZID=America/Toronto:20220929T210000
DTSTAMP:20260420T031810
CREATED:20220608T115253Z
LAST-MODIFIED:20220824T162706Z
UID:6216-1664479800-1664485200@meditationinniagara.org
SUMMARY:General Program Class
DESCRIPTION:
URL:https://meditationinniagara.org/event/general-program-class-22/
CATEGORIES:General Program Meditation Class
END:VEVENT
BEGIN:VEVENT
DTSTART;TZID=America/Toronto:20220929T113000
DTEND;TZID=America/Toronto:20220929T123000
DTSTAMP:20260420T031810
CREATED:20220710T001032Z
LAST-MODIFIED:20220710T001032Z
UID:6365-1664451000-1664454600@meditationinniagara.org
SUMMARY:Wishfulfilling Jewel
DESCRIPTION:
URL:https://meditationinniagara.org/event/wishfulfilling-jewel-3/
CATEGORIES:Chanted Prayers
END:VEVENT
BEGIN:VEVENT
DTSTART;TZID=America/Toronto:20220925T173000
DTEND;TZID=America/Toronto:20220925T193000
DTSTAMP:20260420T031810
CREATED:20220608T121317Z
LAST-MODIFIED:20220608T121317Z
UID:6244-1664127000-1664134200@meditationinniagara.org
SUMMARY:Offering to the Spiritual Guide
DESCRIPTION:
URL:https://meditationinniagara.org/event/offering-to-the-spiritual-guide-2/
CATEGORIES:Chanted Prayers
END:VEVENT
BEGIN:VEVENT
DTSTART;TZID=America/Toronto:20220922T193000
DTEND;TZID=America/Toronto:20220922T210000
DTSTAMP:20260420T031810
CREATED:20220608T115125Z
LAST-MODIFIED:20220824T162747Z
UID:6214-1663875000-1663880400@meditationinniagara.org
SUMMARY:General Program Class
DESCRIPTION:
URL:https://meditationinniagara.org/event/general-program-class-21/
CATEGORIES:General Program Meditation Class
END:VEVENT
BEGIN:VEVENT
DTSTART;TZID=America/Toronto:20220918T173000
DTEND;TZID=America/Toronto:20220918T203000
DTSTAMP:20260420T031810
CREATED:20220608T121206Z
LAST-MODIFIED:20220608T121206Z
UID:6242-1663522200-1663533000@meditationinniagara.org
SUMMARY:Foundation Program
DESCRIPTION:
URL:https://meditationinniagara.org/event/foundation-program-78/
CATEGORIES:Foundation Program
END:VEVENT
BEGIN:VEVENT
DTSTART;TZID=America/Toronto:20220917T100000
DTEND;TZID=America/Toronto:20220917T163000
DTSTAMP:20260420T031810
CREATED:20220608T111632Z
LAST-MODIFIED:20220608T111632Z
UID:6201-1663408800-1663432200@meditationinniagara.org
SUMMARY:Mirror of Dharma Retreat Pt 1
DESCRIPTION:
URL:https://meditationinniagara.org/event/mirror-of-dharma-retreat-pt-1/
CATEGORIES:Meditation Retreat
END:VEVENT
BEGIN:VEVENT
DTSTART;TZID=America/Toronto:20220915T193000
DTEND;TZID=America/Toronto:20220915T210000
DTSTAMP:20260420T031810
CREATED:20220608T115014Z
LAST-MODIFIED:20220824T162811Z
UID:6212-1663270200-1663275600@meditationinniagara.org
SUMMARY:General Program Class
DESCRIPTION:
URL:https://meditationinniagara.org/event/general-program-class-20/
CATEGORIES:General Program Meditation Class
END:VEVENT
BEGIN:VEVENT
DTSTART;TZID=America/Toronto:20220911T173000
DTEND;TZID=America/Toronto:20220911T203000
DTSTAMP:20260420T031810
CREATED:20220608T121034Z
LAST-MODIFIED:20220608T121034Z
UID:6240-1662917400-1662928200@meditationinniagara.org
SUMMARY:Foundation Program    New Term Begins
DESCRIPTION:
URL:https://meditationinniagara.org/event/foundation-program-new-term-begins/
CATEGORIES:Foundation Program
END:VEVENT
BEGIN:VEVENT
DTSTART;TZID=America/Toronto:20220910T110000
DTEND;TZID=America/Toronto:20220910T130000
DTSTAMP:20260420T031810
CREATED:20220709T235543Z
LAST-MODIFIED:20220709T235543Z
UID:6346-1662807600-1662814800@meditationinniagara.org
SUMMARY:Offering to the Spiritual Guide
DESCRIPTION:
URL:https://meditationinniagara.org/event/offering-to-the-spiritual-guide-9/
CATEGORIES:Chanted Prayers
END:VEVENT
BEGIN:VEVENT
DTSTART;TZID=America/Toronto:20220908T193000
DTEND;TZID=America/Toronto:20220908T210000
DTSTAMP:20260420T031810
CREATED:20220608T114859Z
LAST-MODIFIED:20220824T162843Z
UID:6210-1662665400-1662670800@meditationinniagara.org
SUMMARY:General Program Class
DESCRIPTION:
URL:https://meditationinniagara.org/event/general-program-class-19/
CATEGORIES:General Program Meditation Class
END:VEVENT
BEGIN:VEVENT
DTSTART;TZID=America/Toronto:20220907T193000
DTEND;TZID=America/Toronto:20220907T213000
DTSTAMP:20260420T031810
CREATED:20220305T134433Z
LAST-MODIFIED:20220305T134433Z
UID:6042-1662579000-1662586200@meditationinniagara.org
SUMMARY:Book Club
DESCRIPTION:
URL:https://meditationinniagara.org/event/book-club-10/
END:VEVENT
BEGIN:VEVENT
DTSTART;TZID=America/Toronto:20220901T193000
DTEND;TZID=America/Toronto:20220901T204000
DTSTAMP:20260420T031810
CREATED:20220528T155251Z
LAST-MODIFIED:20220528T155251Z
UID:6183-1662060600-1662064800@meditationinniagara.org
SUMMARY:General Program Class
DESCRIPTION:
URL:https://meditationinniagara.org/event/general-program-class-18/
CATEGORIES:General Program Meditation Class
END:VEVENT
BEGIN:VEVENT
DTSTART;TZID=America/Toronto:20220831T193000
DTEND;TZID=America/Toronto:20220831T213000
DTSTAMP:20260420T031810
CREATED:20220305T134337Z
LAST-MODIFIED:20220305T134337Z
UID:6040-1661974200-1661981400@meditationinniagara.org
SUMMARY:Book Club
DESCRIPTION:
URL:https://meditationinniagara.org/event/book-club-9/
END:VEVENT
BEGIN:VEVENT
DTSTART;TZID=America/Toronto:20220829T190000
DTEND;TZID=America/Toronto:20220829T200000
DTSTAMP:20260420T031810
CREATED:20220710T000850Z
LAST-MODIFIED:20220710T000850Z
UID:6363-1661799600-1661803200@meditationinniagara.org
SUMMARY:Wishfulfilling Jewel
DESCRIPTION:
URL:https://meditationinniagara.org/event/wishfulfilling-jewel-2/
CATEGORIES:Chanted Prayers
END:VEVENT
BEGIN:VEVENT
DTSTART;TZID=America/Toronto:20220825T193000
DTEND;TZID=America/Toronto:20220825T204000
DTSTAMP:20260420T031810
CREATED:20220528T141704Z
LAST-MODIFIED:20220528T141704Z
UID:6181-1661455800-1661460000@meditationinniagara.org
SUMMARY:General Program Class
DESCRIPTION:
URL:https://meditationinniagara.org/event/general-program-class-17/
CATEGORIES:General Program Meditation Class
END:VEVENT
BEGIN:VEVENT
DTSTART;TZID=America/Toronto:20220825T100000
DTEND;TZID=America/Toronto:20220825T120000
DTSTAMP:20260420T031810
CREATED:20220709T235354Z
LAST-MODIFIED:20220709T235354Z
UID:6344-1661421600-1661428800@meditationinniagara.org
SUMMARY:Offering to the Spiritual Guide
DESCRIPTION:
URL:https://meditationinniagara.org/event/offering-to-the-spiritual-guide-6/
CATEGORIES:Chanted Prayers
END:VEVENT
BEGIN:VEVENT
DTSTART;TZID=America/Toronto:20220824T193000
DTEND;TZID=America/Toronto:20220824T213000
DTSTAMP:20260420T031810
CREATED:20220305T134225Z
LAST-MODIFIED:20220305T134225Z
UID:6038-1661369400-1661376600@meditationinniagara.org
SUMMARY:Book Club
DESCRIPTION:
URL:https://meditationinniagara.org/event/book-club-8/
END:VEVENT
BEGIN:VEVENT
DTSTART;TZID=America/Toronto:20220820T100000
DTEND;TZID=America/Toronto:20220820T163000
DTSTAMP:20260420T031810
CREATED:20220608T111459Z
LAST-MODIFIED:20220608T111459Z
UID:6199-1660989600-1661013000@meditationinniagara.org
SUMMARY:The Secrets of Self Generation Retreat
DESCRIPTION:
URL:https://meditationinniagara.org/event/the-secrets-of-self-generation-retreat/
CATEGORIES:Meditation Retreat
END:VEVENT
BEGIN:VEVENT
DTSTART;TZID=America/Toronto:20220818T193000
DTEND;TZID=America/Toronto:20220818T204000
DTSTAMP:20260420T031810
CREATED:20220528T141531Z
LAST-MODIFIED:20220528T141531Z
UID:6179-1660851000-1660855200@meditationinniagara.org
SUMMARY:General Program Class
DESCRIPTION:
URL:https://meditationinniagara.org/event/general-program-class-16/
CATEGORIES:General Program Meditation Class
END:VEVENT
BEGIN:VEVENT
DTSTART;TZID=America/Toronto:20220817T193000
DTEND;TZID=America/Toronto:20220817T213000
DTSTAMP:20260420T031810
CREATED:20220305T134136Z
LAST-MODIFIED:20220305T134136Z
UID:6036-1660764600-1660771800@meditationinniagara.org
SUMMARY:Book Club
DESCRIPTION:
URL:https://meditationinniagara.org/event/book-club-7/
END:VEVENT
BEGIN:VEVENT
DTSTART;TZID=America/Toronto:20220811T193000
DTEND;TZID=America/Toronto:20220811T204000
DTSTAMP:20260420T031810
CREATED:20220528T141403Z
LAST-MODIFIED:20220528T141403Z
UID:6177-1660246200-1660250400@meditationinniagara.org
SUMMARY:General Program Class
DESCRIPTION:
URL:https://meditationinniagara.org/event/general-program-class-15/
CATEGORIES:General Program Meditation Class
END:VEVENT
BEGIN:VEVENT
DTSTART;TZID=America/Toronto:20220810T190000
DTEND;TZID=America/Toronto:20220810T210000
DTSTAMP:20260420T031810
CREATED:20220709T235301Z
LAST-MODIFIED:20220709T235301Z
UID:6342-1660158000-1660165200@meditationinniagara.org
SUMMARY:Offering to the Spiritual Guide
DESCRIPTION:
URL:https://meditationinniagara.org/event/offering-to-the-spiritual-guide-5/
CATEGORIES:Chanted Prayers
END:VEVENT
BEGIN:VEVENT
DTSTART;TZID=America/Toronto:20220804T193000
DTEND;TZID=America/Toronto:20220804T204000
DTSTAMP:20260420T031810
CREATED:20220528T141233Z
LAST-MODIFIED:20220528T141233Z
UID:6175-1659641400-1659645600@meditationinniagara.org
SUMMARY:General Program Class
DESCRIPTION:
URL:https://meditationinniagara.org/event/general-program-class-14/
CATEGORIES:General Program Meditation Class
END:VEVENT
BEGIN:VEVENT
DTSTART;TZID=America/Toronto:20220803T193000
DTEND;TZID=America/Toronto:20220803T213000
DTSTAMP:20260420T031810
CREATED:20220305T134042Z
LAST-MODIFIED:20220305T134042Z
UID:6034-1659555000-1659562200@meditationinniagara.org
SUMMARY:Book Club
DESCRIPTION:
URL:https://meditationinniagara.org/event/book-club-6/
END:VEVENT
BEGIN:VEVENT
DTSTART;TZID=America/Toronto:20220729T190000
DTEND;TZID=America/Toronto:20220729T200000
DTSTAMP:20260420T031810
CREATED:20220710T000736Z
LAST-MODIFIED:20220710T000736Z
UID:6361-1659121200-1659124800@meditationinniagara.org
SUMMARY:Wishfulfilling Jewel
DESCRIPTION:
URL:https://meditationinniagara.org/event/wishfulfilling-jewel/
CATEGORIES:Chanted Prayers
END:VEVENT
BEGIN:VEVENT
DTSTART;VALUE=DATE:20220729
DTEND;VALUE=DATE:20220814
DTSTAMP:20260420T031810
CREATED:20211015T150553Z
LAST-MODIFIED:20211015T150553Z
UID:5751-1659052800-1660435199@meditationinniagara.org
SUMMARY:NKT Summer Festival
DESCRIPTION:
URL:https://meditationinniagara.org/event/nkt-summer-festival-4/
LOCATION:Manjushri Kadampa Meditation Centre\, Conishead Priory\, Ulverston\, Cumbria\, LA12 9QQ\, United Kingdom
END:VEVENT
BEGIN:VEVENT
DTSTART;TZID=America/Toronto:20220728T193000
DTEND;TZID=America/Toronto:20220728T204000
DTSTAMP:20260420T031810
CREATED:20220528T140437Z
LAST-MODIFIED:20220528T140437Z
UID:6171-1659036600-1659040800@meditationinniagara.org
SUMMARY:General Program Class
DESCRIPTION:
URL:https://meditationinniagara.org/event/general-program-class-12/
CATEGORIES:General Program Meditation Class
END:VEVENT
BEGIN:VEVENT
DTSTART;TZID=America/Toronto:20220727T193000
DTEND;TZID=America/Toronto:20220727T213000
DTSTAMP:20260420T031810
CREATED:20220305T133919Z
LAST-MODIFIED:20220305T133919Z
UID:6032-1658950200-1658957400@meditationinniagara.org
SUMMARY:Book Club
DESCRIPTION:
URL:https://meditationinniagara.org/event/book-club-5/
END:VEVENT
BEGIN:VEVENT
DTSTART;TZID=America/Toronto:20220725T190000
DTEND;TZID=America/Toronto:20220725T210000
DTSTAMP:20260420T031810
CREATED:20220709T233643Z
LAST-MODIFIED:20220709T233643Z
UID:6336-1658775600-1658782800@meditationinniagara.org
SUMMARY:Offering to the Spiritual Guide
DESCRIPTION:
URL:https://meditationinniagara.org/event/offering-to-the-spiritual-guide-4/
CATEGORIES:Chanted Prayers
END:VEVENT
BEGIN:VEVENT
DTSTART;TZID=America/Toronto:20220721T193000
DTEND;TZID=America/Toronto:20220721T204000
DTSTAMP:20260420T031810
CREATED:20220528T140322Z
LAST-MODIFIED:20220528T140322Z
UID:6169-1658431800-1658436000@meditationinniagara.org
SUMMARY:General Program Class
DESCRIPTION:
URL:https://meditationinniagara.org/event/general-program-class-11/
CATEGORIES:General Program Meditation Class
END:VEVENT
END:VCALENDAR