BEGIN:VCALENDAR
VERSION:2.0
PRODID:-//Meditation In Niagara - ECPv6.15.20//NONSGML v1.0//EN
CALSCALE:GREGORIAN
METHOD:PUBLISH
X-WR-CALNAME:Meditation In Niagara
X-ORIGINAL-URL:https://meditationinniagara.org
X-WR-CALDESC:Events for Meditation In Niagara
REFRESH-INTERVAL;VALUE=DURATION:PT1H
X-Robots-Tag:noindex
X-PUBLISHED-TTL:PT1H
BEGIN:VTIMEZONE
TZID:America/Toronto
BEGIN:DAYLIGHT
TZOFFSETFROM:-0500
TZOFFSETTO:-0400
TZNAME:EDT
DTSTART:20200308T070000
END:DAYLIGHT
BEGIN:STANDARD
TZOFFSETFROM:-0400
TZOFFSETTO:-0500
TZNAME:EST
DTSTART:20201101T060000
END:STANDARD
BEGIN:DAYLIGHT
TZOFFSETFROM:-0500
TZOFFSETTO:-0400
TZNAME:EDT
DTSTART:20210314T070000
END:DAYLIGHT
BEGIN:STANDARD
TZOFFSETFROM:-0400
TZOFFSETTO:-0500
TZNAME:EST
DTSTART:20211107T060000
END:STANDARD
BEGIN:DAYLIGHT
TZOFFSETFROM:-0500
TZOFFSETTO:-0400
TZNAME:EDT
DTSTART:20220313T070000
END:DAYLIGHT
BEGIN:STANDARD
TZOFFSETFROM:-0400
TZOFFSETTO:-0500
TZNAME:EST
DTSTART:20221106T060000
END:STANDARD
BEGIN:DAYLIGHT
TZOFFSETFROM:-0500
TZOFFSETTO:-0400
TZNAME:EDT
DTSTART:20230312T070000
END:DAYLIGHT
BEGIN:STANDARD
TZOFFSETFROM:-0400
TZOFFSETTO:-0500
TZNAME:EST
DTSTART:20231105T060000
END:STANDARD
END:VTIMEZONE
BEGIN:VEVENT
DTSTART;TZID=America/Toronto:20220113T193000
DTEND;TZID=America/Toronto:20220113T204000
DTSTAMP:20260421T104502
CREATED:20211101T152343Z
LAST-MODIFIED:20211101T152343Z
UID:5781-1642102200-1642106400@meditationinniagara.org
SUMMARY:General Program Online Class
DESCRIPTION:
URL:https://meditationinniagara.org/event/general-program-online-class-4/
CATEGORIES:General Program Meditation Class
END:VEVENT
BEGIN:VEVENT
DTSTART;TZID=America/Toronto:20220111T193000
DTEND;TZID=America/Toronto:20220111T204000
DTSTAMP:20260421T104502
CREATED:20211101T151547Z
LAST-MODIFIED:20211101T151547Z
UID:5775-1641929400-1641933600@meditationinniagara.org
SUMMARY:General Program Online Class
DESCRIPTION:
URL:https://meditationinniagara.org/event/general-program-online-class/
CATEGORIES:General Program Meditation Class
END:VEVENT
BEGIN:VEVENT
DTSTART;TZID=America/Toronto:20220109T173000
DTEND;TZID=America/Toronto:20220109T203000
DTSTAMP:20260421T104502
CREATED:20211101T152824Z
LAST-MODIFIED:20211101T152824Z
UID:5789-1641749400-1641760200@meditationinniagara.org
SUMMARY:Foundation Program
DESCRIPTION:
URL:https://meditationinniagara.org/event/foundation-program-42/
CATEGORIES:Foundation Program
END:VEVENT
BEGIN:VEVENT
DTSTART;TZID=America/Toronto:20220106T193000
DTEND;TZID=America/Toronto:20220106T204000
DTSTAMP:20260421T104502
CREATED:20211101T152500Z
LAST-MODIFIED:20211101T152500Z
UID:5783-1641497400-1641501600@meditationinniagara.org
SUMMARY:General Program Online Class
DESCRIPTION:
URL:https://meditationinniagara.org/event/general-program-online-class-5/
CATEGORIES:General Program Meditation Class
END:VEVENT
BEGIN:VEVENT
DTSTART;TZID=America/Toronto:20211231T190000
DTEND;TZID=America/Toronto:20211231T200000
DTSTAMP:20260421T104502
CREATED:20211015T151956Z
LAST-MODIFIED:20211015T151956Z
UID:5755-1640977200-1640980800@meditationinniagara.org
SUMMARY:The Yoga of Buddha Amitayus
DESCRIPTION:This special chanted prayer is held annually at Samudra Centre for the long life of Venerable Geshe Kelsang Gyatso Rinpoche. If restrictions for social and spiritual gatherings remain\, this event will be live streamed.
URL:https://meditationinniagara.org/event/the-yoga-of-buddha-amitayus/
END:VEVENT
BEGIN:VEVENT
DTSTART;TZID=America/Toronto:20211223T193000
DTEND;TZID=America/Toronto:20211223T204000
DTSTAMP:20260421T104502
CREATED:20210711T195914Z
LAST-MODIFIED:20210711T200709Z
UID:5631-1640287800-1640292000@meditationinniagara.org
SUMMARY:General Program Meditation Class
DESCRIPTION:
URL:https://meditationinniagara.org/event/general-program-st-catharines-16/
CATEGORIES:General Program Meditation Class
END:VEVENT
BEGIN:VEVENT
DTSTART;TZID=America/Toronto:20211219T173000
DTEND;TZID=America/Toronto:20211219T203000
DTSTAMP:20260421T104502
CREATED:20210603T031941Z
LAST-MODIFIED:20210603T031941Z
UID:5532-1639935000-1639945800@meditationinniagara.org
SUMMARY:Foundation Program
DESCRIPTION:
URL:https://meditationinniagara.org/event/foundation-program-41/
CATEGORIES:General Program Meditation Class
END:VEVENT
BEGIN:VEVENT
DTSTART;TZID=America/Toronto:20211216T193000
DTEND;TZID=America/Toronto:20211216T204000
DTSTAMP:20260421T104502
CREATED:20210711T195810Z
LAST-MODIFIED:20210711T200655Z
UID:5629-1639683000-1639687200@meditationinniagara.org
SUMMARY:General Program Meditation Class
DESCRIPTION:
URL:https://meditationinniagara.org/event/general-program-st-catharines-15/
CATEGORIES:General Program Meditation Class
END:VEVENT
BEGIN:VEVENT
DTSTART;TZID=America/Toronto:20211212T173000
DTEND;TZID=America/Toronto:20211212T203000
DTSTAMP:20260421T104502
CREATED:20210603T031825Z
LAST-MODIFIED:20210603T031825Z
UID:5530-1639330200-1639341000@meditationinniagara.org
SUMMARY:Foundation Program
DESCRIPTION:
URL:https://meditationinniagara.org/event/foundation-program-40/
CATEGORIES:Foundation Program
END:VEVENT
BEGIN:VEVENT
DTSTART;TZID=America/Toronto:20211209T193000
DTEND;TZID=America/Toronto:20211209T204000
DTSTAMP:20260421T104502
CREATED:20210711T195710Z
LAST-MODIFIED:20210711T200641Z
UID:5627-1639078200-1639082400@meditationinniagara.org
SUMMARY:General Program Meditation Class
DESCRIPTION:
URL:https://meditationinniagara.org/event/general-program-st-catharines-14/
CATEGORIES:General Program Meditation Class
END:VEVENT
BEGIN:VEVENT
DTSTART;TZID=America/Toronto:20211205T173000
DTEND;TZID=America/Toronto:20211205T203000
DTSTAMP:20260421T104502
CREATED:20210603T031731Z
LAST-MODIFIED:20210603T031731Z
UID:5528-1638725400-1638736200@meditationinniagara.org
SUMMARY:Foundation Program
DESCRIPTION:
URL:https://meditationinniagara.org/event/foundation-program-39/
CATEGORIES:Foundation Program
END:VEVENT
BEGIN:VEVENT
DTSTART;TZID=America/Toronto:20211202T193000
DTEND;TZID=America/Toronto:20211202T204000
DTSTAMP:20260421T104502
CREATED:20210711T195602Z
LAST-MODIFIED:20210711T200626Z
UID:5625-1638473400-1638477600@meditationinniagara.org
SUMMARY:General Program Meditation Class
DESCRIPTION:
URL:https://meditationinniagara.org/event/general-program-st-catharines-13/
CATEGORIES:General Program Meditation Class
END:VEVENT
BEGIN:VEVENT
DTSTART;VALUE=DATE:20211126
DTEND;VALUE=DATE:20211129
DTSTAMP:20260421T104502
CREATED:20211103T140218Z
LAST-MODIFIED:20211103T140218Z
UID:5859-1637884800-1638143999@meditationinniagara.org
SUMMARY:Ontario Dharma Celebration
DESCRIPTION:
URL:https://meditationinniagara.org/event/ontario-dharma-celebration-2/
LOCATION:Kadampa Meditation Centre Canada\, 631 Crawford St\, Toronto\, Ontario\, M6G 3K1
END:VEVENT
BEGIN:VEVENT
DTSTART;TZID=America/Toronto:20211125T193000
DTEND;TZID=America/Toronto:20211125T204000
DTSTAMP:20260421T104502
CREATED:20210711T195502Z
LAST-MODIFIED:20210711T200609Z
UID:5623-1637868600-1637872800@meditationinniagara.org
SUMMARY:General Program Meditation Class
DESCRIPTION:
URL:https://meditationinniagara.org/event/general-program-st-catharines-12/
CATEGORIES:General Program Meditation Class
END:VEVENT
BEGIN:VEVENT
DTSTART;TZID=America/Toronto:20211121T173000
DTEND;TZID=America/Toronto:20211121T203000
DTSTAMP:20260421T104502
CREATED:20210603T031539Z
LAST-MODIFIED:20210603T031539Z
UID:5524-1637515800-1637526600@meditationinniagara.org
SUMMARY:Foundation Program
DESCRIPTION:
URL:https://meditationinniagara.org/event/foundation-program-37/
CATEGORIES:Foundation Program
END:VEVENT
BEGIN:VEVENT
DTSTART;TZID=America/Toronto:20211118T193000
DTEND;TZID=America/Toronto:20211118T204000
DTSTAMP:20260421T104502
CREATED:20210711T195409Z
LAST-MODIFIED:20210711T200554Z
UID:5621-1637263800-1637268000@meditationinniagara.org
SUMMARY:General Program Meditation Class
DESCRIPTION:
URL:https://meditationinniagara.org/event/general-program-st-catharines-11/
CATEGORIES:General Program Meditation Class
END:VEVENT
BEGIN:VEVENT
DTSTART;TZID=America/Toronto:20211114T173000
DTEND;TZID=America/Toronto:20211114T203000
DTSTAMP:20260421T104502
CREATED:20210603T031444Z
LAST-MODIFIED:20210603T031444Z
UID:5522-1636911000-1636921800@meditationinniagara.org
SUMMARY:Foundation Program
DESCRIPTION:
URL:https://meditationinniagara.org/event/foundation-program-36/
CATEGORIES:Foundation Program
END:VEVENT
BEGIN:VEVENT
DTSTART;TZID=America/Toronto:20211111T193000
DTEND;TZID=America/Toronto:20211111T204000
DTSTAMP:20260421T104502
CREATED:20210711T195239Z
LAST-MODIFIED:20210711T200539Z
UID:5619-1636659000-1636663200@meditationinniagara.org
SUMMARY:General Program Meditation Class
DESCRIPTION:
URL:https://meditationinniagara.org/event/general-program-st-catharines-10/
CATEGORIES:General Program Meditation Class
END:VEVENT
BEGIN:VEVENT
DTSTART;TZID=America/Toronto:20211107T173000
DTEND;TZID=America/Toronto:20211107T203000
DTSTAMP:20260421T104502
CREATED:20210603T031335Z
LAST-MODIFIED:20210603T031335Z
UID:5520-1636306200-1636317000@meditationinniagara.org
SUMMARY:Foundation Program
DESCRIPTION:
URL:https://meditationinniagara.org/event/foundation-program-35/
CATEGORIES:Foundation Program
END:VEVENT
BEGIN:VEVENT
DTSTART;TZID=America/Toronto:20211104T193000
DTEND;TZID=America/Toronto:20211104T204000
DTSTAMP:20260421T104502
CREATED:20210711T195146Z
LAST-MODIFIED:20210711T200735Z
UID:5617-1636054200-1636058400@meditationinniagara.org
SUMMARY:General Program Meditation Class
DESCRIPTION:
URL:https://meditationinniagara.org/event/general-program-st-catharines-9/
CATEGORIES:General Program Meditation Class
END:VEVENT
BEGIN:VEVENT
DTSTART;TZID=America/Toronto:20211028T193000
DTEND;TZID=America/Toronto:20211028T204000
DTSTAMP:20260421T104502
CREATED:20210711T195046Z
LAST-MODIFIED:20210711T200756Z
UID:5615-1635449400-1635453600@meditationinniagara.org
SUMMARY:General Program Meditation Class
DESCRIPTION:
URL:https://meditationinniagara.org/event/general-program-st-catharines-8/
CATEGORIES:General Program Meditation Class
END:VEVENT
BEGIN:VEVENT
DTSTART;TZID=America/Toronto:20211024T173000
DTEND;TZID=America/Toronto:20211024T203000
DTSTAMP:20260421T104502
CREATED:20210603T031127Z
LAST-MODIFIED:20210603T031127Z
UID:5518-1635096600-1635107400@meditationinniagara.org
SUMMARY:Foundation Program
DESCRIPTION:
URL:https://meditationinniagara.org/event/foundation-program-34/
CATEGORIES:Foundation Program
END:VEVENT
BEGIN:VEVENT
DTSTART;VALUE=DATE:20211022
DTEND;VALUE=DATE:20211029
DTSTAMP:20260421T104502
CREATED:20210424T143910Z
LAST-MODIFIED:20210424T143910Z
UID:5420-1634860800-1635465599@meditationinniagara.org
SUMMARY:NKT Fall Festival
DESCRIPTION:
URL:https://meditationinniagara.org/event/nkt-fall-festival-2/
END:VEVENT
BEGIN:VEVENT
DTSTART;TZID=America/Toronto:20211021T193000
DTEND;TZID=America/Toronto:20211021T204000
DTSTAMP:20260421T104502
CREATED:20210711T194914Z
LAST-MODIFIED:20210711T200816Z
UID:5613-1634844600-1634848800@meditationinniagara.org
SUMMARY:General Program Meditation Class
DESCRIPTION:
URL:https://meditationinniagara.org/event/general-program-st-catharines-7/
CATEGORIES:General Program Meditation Class
END:VEVENT
BEGIN:VEVENT
DTSTART;TZID=America/Toronto:20211017T173000
DTEND;TZID=America/Toronto:20211017T203000
DTSTAMP:20260421T104502
CREATED:20210603T031033Z
LAST-MODIFIED:20210603T031033Z
UID:5516-1634491800-1634502600@meditationinniagara.org
SUMMARY:Foundation Program
DESCRIPTION:
URL:https://meditationinniagara.org/event/foundation-program-33/
CATEGORIES:Foundation Program
END:VEVENT
BEGIN:VEVENT
DTSTART;TZID=America/Toronto:20211014T193000
DTEND;TZID=America/Toronto:20211014T204000
DTSTAMP:20260421T104502
CREATED:20210711T194820Z
LAST-MODIFIED:20210711T200839Z
UID:5611-1634239800-1634244000@meditationinniagara.org
SUMMARY:General Program Meditation Class
DESCRIPTION:
URL:https://meditationinniagara.org/event/general-program-st-catharines-6/
CATEGORIES:General Program Meditation Class
END:VEVENT
BEGIN:VEVENT
DTSTART;TZID=America/Toronto:20211010T173000
DTEND;TZID=America/Toronto:20211010T193000
DTSTAMP:20260421T104502
CREATED:20210603T030927Z
LAST-MODIFIED:20210603T030927Z
UID:5514-1633887000-1633894200@meditationinniagara.org
SUMMARY:Offering to the Spiritual Guide
DESCRIPTION:
URL:https://meditationinniagara.org/event/offering-to-the-spiritual-guide/
CATEGORIES:Chanted Prayers
END:VEVENT
BEGIN:VEVENT
DTSTART;TZID=America/Toronto:20211007T193000
DTEND;TZID=America/Toronto:20211007T204000
DTSTAMP:20260421T104502
CREATED:20210711T194727Z
LAST-MODIFIED:20210711T200853Z
UID:5609-1633635000-1633639200@meditationinniagara.org
SUMMARY:General Program Meditation Class
DESCRIPTION:
URL:https://meditationinniagara.org/event/general-program-st-catharines-5/
CATEGORIES:General Program Meditation Class
END:VEVENT
BEGIN:VEVENT
DTSTART;TZID=America/Toronto:20211003T173000
DTEND;TZID=America/Toronto:20211003T203000
DTSTAMP:20260421T104502
CREATED:20210603T030819Z
LAST-MODIFIED:20210603T030819Z
UID:5512-1633282200-1633293000@meditationinniagara.org
SUMMARY:Foundation Program
DESCRIPTION:
URL:https://meditationinniagara.org/event/foundation-program-32/
CATEGORIES:Foundation Program
END:VEVENT
BEGIN:VEVENT
DTSTART;TZID=America/Toronto:20210930T193000
DTEND;TZID=America/Toronto:20210930T204000
DTSTAMP:20260421T104502
CREATED:20210711T194626Z
LAST-MODIFIED:20210711T200909Z
UID:5607-1633030200-1633034400@meditationinniagara.org
SUMMARY:General Program Meditation Class
DESCRIPTION:
URL:https://meditationinniagara.org/event/general-program-st-catharines-4/
CATEGORIES:General Program Meditation Class
END:VEVENT
END:VCALENDAR