BEGIN:VCALENDAR
VERSION:2.0
PRODID:-//Meditation In Niagara - ECPv6.15.20//NONSGML v1.0//EN
CALSCALE:GREGORIAN
METHOD:PUBLISH
X-WR-CALNAME:Meditation In Niagara
X-ORIGINAL-URL:https://meditationinniagara.org
X-WR-CALDESC:Events for Meditation In Niagara
REFRESH-INTERVAL;VALUE=DURATION:PT1H
X-Robots-Tag:noindex
X-PUBLISHED-TTL:PT1H
BEGIN:VTIMEZONE
TZID:America/Toronto
BEGIN:DAYLIGHT
TZOFFSETFROM:-0500
TZOFFSETTO:-0400
TZNAME:EDT
DTSTART:20210314T070000
END:DAYLIGHT
BEGIN:STANDARD
TZOFFSETFROM:-0400
TZOFFSETTO:-0500
TZNAME:EST
DTSTART:20211107T060000
END:STANDARD
BEGIN:DAYLIGHT
TZOFFSETFROM:-0500
TZOFFSETTO:-0400
TZNAME:EDT
DTSTART:20220313T070000
END:DAYLIGHT
BEGIN:STANDARD
TZOFFSETFROM:-0400
TZOFFSETTO:-0500
TZNAME:EST
DTSTART:20221106T060000
END:STANDARD
BEGIN:DAYLIGHT
TZOFFSETFROM:-0500
TZOFFSETTO:-0400
TZNAME:EDT
DTSTART:20230312T070000
END:DAYLIGHT
BEGIN:STANDARD
TZOFFSETFROM:-0400
TZOFFSETTO:-0500
TZNAME:EST
DTSTART:20231105T060000
END:STANDARD
END:VTIMEZONE
BEGIN:VEVENT
DTSTART;TZID=America/Toronto:20220407T193000
DTEND;TZID=America/Toronto:20220407T204000
DTSTAMP:20260421T162412
CREATED:20220305T115225Z
LAST-MODIFIED:20220305T175142Z
UID:6008-1649359800-1649364000@meditationinniagara.org
SUMMARY:General Program Online Class
DESCRIPTION:
URL:https://meditationinniagara.org/event/general-program-online-class-26/
CATEGORIES:General Program Meditation Class
END:VEVENT
BEGIN:VEVENT
DTSTART;TZID=America/Toronto:20220403T173000
DTEND;TZID=America/Toronto:20220403T203000
DTSTAMP:20260421T162412
CREATED:20220305T113910Z
LAST-MODIFIED:20220305T113910Z
UID:5991-1649007000-1649017800@meditationinniagara.org
SUMMARY:Foundation Program
DESCRIPTION:
URL:https://meditationinniagara.org/event/foundation-program-38/
CATEGORIES:Foundation Program
END:VEVENT
BEGIN:VEVENT
DTSTART;TZID=America/Toronto:20220402T190000
DTEND;TZID=America/Toronto:20220402T201000
DTSTAMP:20260421T162412
CREATED:20220305T184112Z
LAST-MODIFIED:20220305T184112Z
UID:6056-1648926000-1648930200@meditationinniagara.org
SUMMARY:NKT Day
DESCRIPTION:Special Wishfulfilling Jewel puja\, with tsog at Samudra Centre.
URL:https://meditationinniagara.org/event/nkt-day/
END:VEVENT
BEGIN:VEVENT
DTSTART;TZID=America/Toronto:20220331T193000
DTEND;TZID=America/Toronto:20220331T204000
DTSTAMP:20260421T162412
CREATED:20211101T161914Z
LAST-MODIFIED:20211101T161914Z
UID:5847-1648755000-1648759200@meditationinniagara.org
SUMMARY:General Program Online Class
DESCRIPTION:
URL:https://meditationinniagara.org/event/general-program-online-class-25/
CATEGORIES:General Program Meditation Class
END:VEVENT
BEGIN:VEVENT
DTSTART;TZID=America/Toronto:20220329T193000
DTEND;TZID=America/Toronto:20220329T204000
DTSTAMP:20260421T162412
CREATED:20211101T160803Z
LAST-MODIFIED:20211101T160803Z
UID:5829-1648582200-1648586400@meditationinniagara.org
SUMMARY:General Program Online Class
DESCRIPTION:
URL:https://meditationinniagara.org/event/general-program-online-class-20/
CATEGORIES:General Program Meditation Class
END:VEVENT
BEGIN:VEVENT
DTSTART;TZID=America/Toronto:20220327T173000
DTEND;TZID=America/Toronto:20220327T203000
DTSTAMP:20260421T162412
CREATED:20211101T161230Z
LAST-MODIFIED:20211101T161230Z
UID:5837-1648402200-1648413000@meditationinniagara.org
SUMMARY:Foundation Program
DESCRIPTION:
URL:https://meditationinniagara.org/event/foundation-program-52/
CATEGORIES:Foundation Program
END:VEVENT
BEGIN:VEVENT
DTSTART;TZID=America/Toronto:20220324T193000
DTEND;TZID=America/Toronto:20220324T204000
DTSTAMP:20260421T162412
CREATED:20211101T161804Z
LAST-MODIFIED:20211101T161804Z
UID:5845-1648150200-1648154400@meditationinniagara.org
SUMMARY:General Program Online Class
DESCRIPTION:
URL:https://meditationinniagara.org/event/general-program-online-class-24/
CATEGORIES:General Program Meditation Class
END:VEVENT
BEGIN:VEVENT
DTSTART;TZID=America/Toronto:20220322T193000
DTEND;TZID=America/Toronto:20220322T204000
DTSTAMP:20260421T162412
CREATED:20211101T160656Z
LAST-MODIFIED:20211101T160656Z
UID:5827-1647977400-1647981600@meditationinniagara.org
SUMMARY:General Program Online Class
DESCRIPTION:
URL:https://meditationinniagara.org/event/general-program-online-class-19/
CATEGORIES:General Program Meditation Class
END:VEVENT
BEGIN:VEVENT
DTSTART;TZID=America/Toronto:20220320T173000
DTEND;TZID=America/Toronto:20220320T203000
DTSTAMP:20260421T162412
CREATED:20211101T161129Z
LAST-MODIFIED:20211101T161129Z
UID:5835-1647797400-1647808200@meditationinniagara.org
SUMMARY:Foundation Program
DESCRIPTION:
URL:https://meditationinniagara.org/event/foundation-program-51/
CATEGORIES:Foundation Program
END:VEVENT
BEGIN:VEVENT
DTSTART;TZID=America/Toronto:20220317T193000
DTEND;TZID=America/Toronto:20220317T204000
DTSTAMP:20260421T162412
CREATED:20211101T161653Z
LAST-MODIFIED:20211101T161653Z
UID:5843-1647545400-1647549600@meditationinniagara.org
SUMMARY:General Program Online Class
DESCRIPTION:
URL:https://meditationinniagara.org/event/general-program-online-class-23/
CATEGORIES:General Program Meditation Class
END:VEVENT
BEGIN:VEVENT
DTSTART;TZID=America/Toronto:20220315T193000
DTEND;TZID=America/Toronto:20220315T204000
DTSTAMP:20260421T162412
CREATED:20211101T160553Z
LAST-MODIFIED:20211101T160553Z
UID:5825-1647372600-1647376800@meditationinniagara.org
SUMMARY:General Program Online Class
DESCRIPTION:
URL:https://meditationinniagara.org/event/general-program-online-class-18/
CATEGORIES:General Program Meditation Class
END:VEVENT
BEGIN:VEVENT
DTSTART;TZID=America/Toronto:20220313T173000
DTEND;TZID=America/Toronto:20220313T203000
DTSTAMP:20260421T162412
CREATED:20211101T161026Z
LAST-MODIFIED:20211101T161026Z
UID:5833-1647192600-1647203400@meditationinniagara.org
SUMMARY:Foundation Program
DESCRIPTION:
URL:https://meditationinniagara.org/event/foundation-program-50/
CATEGORIES:Foundation Program
END:VEVENT
BEGIN:VEVENT
DTSTART;TZID=America/Toronto:20220312T100000
DTEND;TZID=America/Toronto:20220312T123000
DTSTAMP:20260421T162412
CREATED:20211101T162040Z
LAST-MODIFIED:20220225T164307Z
UID:5849-1647079200-1647088200@meditationinniagara.org
SUMMARY:Defeating Depression
DESCRIPTION:
URL:https://meditationinniagara.org/event/defeating-depression-day-course/
CATEGORIES:Half Day Course
END:VEVENT
BEGIN:VEVENT
DTSTART;TZID=America/Toronto:20220310T193000
DTEND;TZID=America/Toronto:20220310T204000
DTSTAMP:20260421T162412
CREATED:20211101T161512Z
LAST-MODIFIED:20211101T161512Z
UID:5841-1646940600-1646944800@meditationinniagara.org
SUMMARY:General Program Online Class
DESCRIPTION:
URL:https://meditationinniagara.org/event/general-program-online-class-22/
CATEGORIES:General Program Meditation Class
END:VEVENT
BEGIN:VEVENT
DTSTART;TZID=America/Toronto:20220308T193000
DTEND;TZID=America/Toronto:20220308T204000
DTSTAMP:20260421T162412
CREATED:20211101T160447Z
LAST-MODIFIED:20211101T160447Z
UID:5823-1646767800-1646772000@meditationinniagara.org
SUMMARY:General Program Online Class
DESCRIPTION:
URL:https://meditationinniagara.org/event/general-program-online-class-17/
CATEGORIES:General Program Meditation Class
END:VEVENT
BEGIN:VEVENT
DTSTART;TZID=America/Toronto:20220306T173000
DTEND;TZID=America/Toronto:20220306T203000
DTSTAMP:20260421T162412
CREATED:20211101T160927Z
LAST-MODIFIED:20211101T160927Z
UID:5831-1646587800-1646598600@meditationinniagara.org
SUMMARY:Foundation Program
DESCRIPTION:
URL:https://meditationinniagara.org/event/foundation-program-49/
CATEGORIES:Foundation Program
END:VEVENT
BEGIN:VEVENT
DTSTART;TZID=America/Toronto:20220303T193000
DTEND;TZID=America/Toronto:20220303T204000
DTSTAMP:20260421T162412
CREATED:20211101T161400Z
LAST-MODIFIED:20211101T161400Z
UID:5839-1646335800-1646340000@meditationinniagara.org
SUMMARY:General Program Online Class
DESCRIPTION:
URL:https://meditationinniagara.org/event/general-program-online-class-21/
CATEGORIES:General Program Meditation Class
END:VEVENT
BEGIN:VEVENT
DTSTART;TZID=America/Toronto:20220301T193000
DTEND;TZID=America/Toronto:20220301T204000
DTSTAMP:20260421T162412
CREATED:20211101T160339Z
LAST-MODIFIED:20211101T160339Z
UID:5821-1646163000-1646167200@meditationinniagara.org
SUMMARY:General Program Online Class
DESCRIPTION:
URL:https://meditationinniagara.org/event/general-program-online-class-16/
CATEGORIES:General Program Meditation Class
END:VEVENT
BEGIN:VEVENT
DTSTART;TZID=America/Toronto:20220227T173000
DTEND;TZID=America/Toronto:20220227T203000
DTSTAMP:20260421T162412
CREATED:20211101T155642Z
LAST-MODIFIED:20211101T155642Z
UID:5811-1645983000-1645993800@meditationinniagara.org
SUMMARY:Foundation Program
DESCRIPTION:
URL:https://meditationinniagara.org/event/foundation-program-48/
CATEGORIES:Foundation Program
END:VEVENT
BEGIN:VEVENT
DTSTART;TZID=America/Toronto:20220226T100000
DTEND;TZID=America/Toronto:20220226T163000
DTSTAMP:20260421T162412
CREATED:20220218T224039Z
LAST-MODIFIED:20220218T224039Z
UID:5960-1645869600-1645893000@meditationinniagara.org
SUMMARY:Power of Love Retreat
DESCRIPTION:
URL:https://meditationinniagara.org/event/power-of-love-retreat/
CATEGORIES:Retreat
END:VEVENT
BEGIN:VEVENT
DTSTART;TZID=America/Toronto:20220224T193000
DTEND;TZID=America/Toronto:20220224T204000
DTSTAMP:20260421T162412
CREATED:20211101T160135Z
LAST-MODIFIED:20211101T160135Z
UID:5819-1645731000-1645735200@meditationinniagara.org
SUMMARY:General Program Online Class
DESCRIPTION:
URL:https://meditationinniagara.org/event/general-program-online-class-15/
CATEGORIES:General Program Meditation Class
END:VEVENT
BEGIN:VEVENT
DTSTART;TZID=America/Toronto:20220222T193000
DTEND;TZID=America/Toronto:20220222T204000
DTSTAMP:20260421T162412
CREATED:20211101T155245Z
LAST-MODIFIED:20211101T155245Z
UID:5805-1645558200-1645562400@meditationinniagara.org
SUMMARY:General Program Online Class
DESCRIPTION:
URL:https://meditationinniagara.org/event/general-program-online-class-11/
CATEGORIES:General Program Meditation Class
END:VEVENT
BEGIN:VEVENT
DTSTART;TZID=America/Toronto:20220220T173000
DTEND;TZID=America/Toronto:20220220T203000
DTSTAMP:20260421T162412
CREATED:20211101T155539Z
LAST-MODIFIED:20211101T155539Z
UID:5809-1645378200-1645389000@meditationinniagara.org
SUMMARY:Foundation Program
DESCRIPTION:
URL:https://meditationinniagara.org/event/foundation-program-47/
CATEGORIES:Foundation Program
END:VEVENT
BEGIN:VEVENT
DTSTART;TZID=America/Toronto:20220217T193000
DTEND;TZID=America/Toronto:20220217T204000
DTSTAMP:20260421T162412
CREATED:20211101T160027Z
LAST-MODIFIED:20211101T160027Z
UID:5817-1645126200-1645130400@meditationinniagara.org
SUMMARY:General Program Online Class
DESCRIPTION:
URL:https://meditationinniagara.org/event/general-program-online-class-14/
CATEGORIES:General Program Meditation Class
END:VEVENT
BEGIN:VEVENT
DTSTART;TZID=America/Toronto:20220215T193000
DTEND;TZID=America/Toronto:20220215T204000
DTSTAMP:20260421T162412
CREATED:20211101T155128Z
LAST-MODIFIED:20211101T155128Z
UID:5803-1644953400-1644957600@meditationinniagara.org
SUMMARY:General Program Online Class
DESCRIPTION:
URL:https://meditationinniagara.org/event/general-program-online-class-10/
CATEGORIES:General Program Meditation Class
END:VEVENT
BEGIN:VEVENT
DTSTART;TZID=America/Toronto:20220212T100000
DTEND;TZID=America/Toronto:20220212T170000
DTSTAMP:20260421T162412
CREATED:20211015T151111Z
LAST-MODIFIED:20211015T151111Z
UID:5753-1644660000-1644685200@meditationinniagara.org
SUMMARY:Buddha Maitreya Empowerment
DESCRIPTION:
URL:https://meditationinniagara.org/event/buddha-maitreya-empowerment-2/
END:VEVENT
BEGIN:VEVENT
DTSTART;TZID=America/Toronto:20220210T193000
DTEND;TZID=America/Toronto:20220210T204000
DTSTAMP:20260421T162412
CREATED:20211101T155926Z
LAST-MODIFIED:20211101T155926Z
UID:5815-1644521400-1644525600@meditationinniagara.org
SUMMARY:General Program Online Class
DESCRIPTION:
URL:https://meditationinniagara.org/event/general-program-online-class-13/
CATEGORIES:General Program Meditation Class
END:VEVENT
BEGIN:VEVENT
DTSTART;TZID=America/Toronto:20220208T193000
DTEND;TZID=America/Toronto:20220208T204000
DTSTAMP:20260421T162412
CREATED:20211101T154738Z
LAST-MODIFIED:20211101T154738Z
UID:5801-1644348600-1644352800@meditationinniagara.org
SUMMARY:General Program Online Class
DESCRIPTION:
URL:https://meditationinniagara.org/event/general-program-online-class-9/
CATEGORIES:General Program Meditation Class
END:VEVENT
BEGIN:VEVENT
DTSTART;TZID=America/Toronto:20220206T173000
DTEND;TZID=America/Toronto:20220206T203000
DTSTAMP:20260421T162412
CREATED:20211101T155441Z
LAST-MODIFIED:20211101T155441Z
UID:5807-1644168600-1644179400@meditationinniagara.org
SUMMARY:Foundation Program
DESCRIPTION:
URL:https://meditationinniagara.org/event/foundation-program-46/
CATEGORIES:Foundation Program
END:VEVENT
BEGIN:VEVENT
DTSTART;TZID=America/Toronto:20220203T193000
DTEND;TZID=America/Toronto:20220203T204000
DTSTAMP:20260421T162412
CREATED:20211101T155822Z
LAST-MODIFIED:20211101T155822Z
UID:5813-1643916600-1643920800@meditationinniagara.org
SUMMARY:General Program Online Class
DESCRIPTION:
URL:https://meditationinniagara.org/event/general-program-online-class-12/
CATEGORIES:General Program Meditation Class
END:VEVENT
END:VCALENDAR