BEGIN:VCALENDAR
VERSION:2.0
PRODID:-//Meditation In Niagara - ECPv6.15.20//NONSGML v1.0//EN
CALSCALE:GREGORIAN
METHOD:PUBLISH
X-WR-CALNAME:Meditation In Niagara
X-ORIGINAL-URL:https://meditationinniagara.org
X-WR-CALDESC:Events for Meditation In Niagara
REFRESH-INTERVAL;VALUE=DURATION:PT1H
X-Robots-Tag:noindex
X-PUBLISHED-TTL:PT1H
BEGIN:VTIMEZONE
TZID:America/Toronto
BEGIN:DAYLIGHT
TZOFFSETFROM:-0500
TZOFFSETTO:-0400
TZNAME:EDT
DTSTART:20200308T070000
END:DAYLIGHT
BEGIN:STANDARD
TZOFFSETFROM:-0400
TZOFFSETTO:-0500
TZNAME:EST
DTSTART:20201101T060000
END:STANDARD
BEGIN:DAYLIGHT
TZOFFSETFROM:-0500
TZOFFSETTO:-0400
TZNAME:EDT
DTSTART:20210314T070000
END:DAYLIGHT
BEGIN:STANDARD
TZOFFSETFROM:-0400
TZOFFSETTO:-0500
TZNAME:EST
DTSTART:20211107T060000
END:STANDARD
BEGIN:DAYLIGHT
TZOFFSETFROM:-0500
TZOFFSETTO:-0400
TZNAME:EDT
DTSTART:20220313T070000
END:DAYLIGHT
BEGIN:STANDARD
TZOFFSETFROM:-0400
TZOFFSETTO:-0500
TZNAME:EST
DTSTART:20221106T060000
END:STANDARD
END:VTIMEZONE
BEGIN:VEVENT
DTSTART;TZID=America/Toronto:20211021T193000
DTEND;TZID=America/Toronto:20211021T204000
DTSTAMP:20260421T201545
CREATED:20210711T194914Z
LAST-MODIFIED:20210711T200816Z
UID:5613-1634844600-1634848800@meditationinniagara.org
SUMMARY:General Program Meditation Class
DESCRIPTION:
URL:https://meditationinniagara.org/event/general-program-st-catharines-7/
LOCATION:Ontario
CATEGORIES:General Program Meditation Class
END:VEVENT
BEGIN:VEVENT
DTSTART;TZID=America/Toronto:20211017T173000
DTEND;TZID=America/Toronto:20211017T203000
DTSTAMP:20260421T201545
CREATED:20210603T031033Z
LAST-MODIFIED:20210603T031033Z
UID:5516-1634491800-1634502600@meditationinniagara.org
SUMMARY:Foundation Program
DESCRIPTION:
URL:https://meditationinniagara.org/event/foundation-program-33/
LOCATION:Ontario
CATEGORIES:Foundation Program
END:VEVENT
BEGIN:VEVENT
DTSTART;TZID=America/Toronto:20211014T193000
DTEND;TZID=America/Toronto:20211014T204000
DTSTAMP:20260421T201545
CREATED:20210711T194820Z
LAST-MODIFIED:20210711T200839Z
UID:5611-1634239800-1634244000@meditationinniagara.org
SUMMARY:General Program Meditation Class
DESCRIPTION:
URL:https://meditationinniagara.org/event/general-program-st-catharines-6/
LOCATION:Ontario
CATEGORIES:General Program Meditation Class
END:VEVENT
BEGIN:VEVENT
DTSTART;TZID=America/Toronto:20211010T173000
DTEND;TZID=America/Toronto:20211010T193000
DTSTAMP:20260421T201545
CREATED:20210603T030927Z
LAST-MODIFIED:20210603T030927Z
UID:5514-1633887000-1633894200@meditationinniagara.org
SUMMARY:Offering to the Spiritual Guide
DESCRIPTION:
URL:https://meditationinniagara.org/event/offering-to-the-spiritual-guide/
LOCATION:Ontario
CATEGORIES:Chanted Prayers
END:VEVENT
BEGIN:VEVENT
DTSTART;TZID=America/Toronto:20211007T193000
DTEND;TZID=America/Toronto:20211007T204000
DTSTAMP:20260421T201545
CREATED:20210711T194727Z
LAST-MODIFIED:20210711T200853Z
UID:5609-1633635000-1633639200@meditationinniagara.org
SUMMARY:General Program Meditation Class
DESCRIPTION:
URL:https://meditationinniagara.org/event/general-program-st-catharines-5/
LOCATION:Ontario
CATEGORIES:General Program Meditation Class
END:VEVENT
BEGIN:VEVENT
DTSTART;TZID=America/Toronto:20211003T173000
DTEND;TZID=America/Toronto:20211003T203000
DTSTAMP:20260421T201545
CREATED:20210603T030819Z
LAST-MODIFIED:20210603T030819Z
UID:5512-1633282200-1633293000@meditationinniagara.org
SUMMARY:Foundation Program
DESCRIPTION:
URL:https://meditationinniagara.org/event/foundation-program-32/
LOCATION:Ontario
CATEGORIES:Foundation Program
END:VEVENT
BEGIN:VEVENT
DTSTART;TZID=America/Toronto:20210930T193000
DTEND;TZID=America/Toronto:20210930T204000
DTSTAMP:20260421T201545
CREATED:20210711T194626Z
LAST-MODIFIED:20210711T200909Z
UID:5607-1633030200-1633034400@meditationinniagara.org
SUMMARY:General Program Meditation Class
DESCRIPTION:
URL:https://meditationinniagara.org/event/general-program-st-catharines-4/
LOCATION:Ontario
CATEGORIES:General Program Meditation Class
END:VEVENT
BEGIN:VEVENT
DTSTART;TZID=America/Toronto:20210926T173000
DTEND;TZID=America/Toronto:20210926T203000
DTSTAMP:20260421T201545
CREATED:20210603T030703Z
LAST-MODIFIED:20210603T030703Z
UID:5510-1632677400-1632688200@meditationinniagara.org
SUMMARY:Foundation Program
DESCRIPTION:
URL:https://meditationinniagara.org/event/foundation-program-31/
LOCATION:Ontario
CATEGORIES:Foundation Program
END:VEVENT
BEGIN:VEVENT
DTSTART;TZID=America/Toronto:20210923T193000
DTEND;TZID=America/Toronto:20210923T204000
DTSTAMP:20260421T201545
CREATED:20210711T194519Z
LAST-MODIFIED:20210711T200927Z
UID:5605-1632425400-1632429600@meditationinniagara.org
SUMMARY:General Program Meditation Class
DESCRIPTION:
URL:https://meditationinniagara.org/event/general-program-st-catharines-3/
LOCATION:Ontario
CATEGORIES:General Program Meditation Class
END:VEVENT
BEGIN:VEVENT
DTSTART;TZID=America/Toronto:20210919T173000
DTEND;TZID=America/Toronto:20210919T203000
DTSTAMP:20260421T201545
CREATED:20210603T030519Z
LAST-MODIFIED:20210603T030519Z
UID:5508-1632072600-1632083400@meditationinniagara.org
SUMMARY:Foundation Program
DESCRIPTION:
URL:https://meditationinniagara.org/event/foundation-program-30/
LOCATION:Ontario
CATEGORIES:Foundation Program
END:VEVENT
BEGIN:VEVENT
DTSTART;TZID=America/Toronto:20210918T100000
DTEND;TZID=America/Toronto:20210918T130000
DTSTAMP:20260421T201545
CREATED:20210828T090709Z
LAST-MODIFIED:20210828T090709Z
UID:5711-1631959200-1631970000@meditationinniagara.org
SUMMARY:Path to Enlightenment Day Course
DESCRIPTION:
URL:https://meditationinniagara.org/event/path-to-enlightenment-day-course/
LOCATION:Ontario
CATEGORIES:Day Course
END:VEVENT
BEGIN:VEVENT
DTSTART;TZID=America/Toronto:20210916T193000
DTEND;TZID=America/Toronto:20210916T204000
DTSTAMP:20260421T201545
CREATED:20210711T194426Z
LAST-MODIFIED:20210711T200953Z
UID:5603-1631820600-1631824800@meditationinniagara.org
SUMMARY:General Program Meditation Class
DESCRIPTION:
URL:https://meditationinniagara.org/event/general-program-st-catharines-2/
LOCATION:Ontario
CATEGORIES:General Program Meditation Class
END:VEVENT
BEGIN:VEVENT
DTSTART;TZID=America/Toronto:20210912T173000
DTEND;TZID=America/Toronto:20210912T203000
DTSTAMP:20260421T201545
CREATED:20210603T030414Z
LAST-MODIFIED:20210603T030414Z
UID:5506-1631467800-1631478600@meditationinniagara.org
SUMMARY:Foundation Program
DESCRIPTION:
URL:https://meditationinniagara.org/event/foundation-program-29/
LOCATION:Ontario
END:VEVENT
BEGIN:VEVENT
DTSTART;TZID=America/Toronto:20210909T193000
DTEND;TZID=America/Toronto:20210909T204000
DTSTAMP:20260421T201545
CREATED:20210711T194326Z
LAST-MODIFIED:20210711T201010Z
UID:5601-1631215800-1631220000@meditationinniagara.org
SUMMARY:General Program Meditation Class
DESCRIPTION:
URL:https://meditationinniagara.org/event/general-program-st-catharines/
LOCATION:Ontario
CATEGORIES:General Program Meditation Class
END:VEVENT
BEGIN:VEVENT
DTSTART;TZID=America/Toronto:20210828T100000
DTEND;TZID=America/Toronto:20210828T130000
DTSTAMP:20260421T201545
CREATED:20210813T224057Z
LAST-MODIFIED:20210813T224057Z
UID:5690-1630144800-1630155600@meditationinniagara.org
SUMMARY:Inspiration for the Path
DESCRIPTION:
URL:https://meditationinniagara.org/event/inspiration-for-the-path/
LOCATION:Ontario
CATEGORIES:Day Course
END:VEVENT
BEGIN:VEVENT
DTSTART;TZID=America/Toronto:20210821T090000
DTEND;TZID=America/Toronto:20210821T153000
DTSTAMP:20260421T201545
CREATED:20210711T193441Z
LAST-MODIFIED:20210711T193441Z
UID:5599-1629536400-1629559800@meditationinniagara.org
SUMMARY:Purification Retreat
DESCRIPTION:
URL:https://meditationinniagara.org/event/purification-retreat/
LOCATION:Ontario
CATEGORIES:Meditation Retreat
END:VEVENT
BEGIN:VEVENT
DTSTART;VALUE=DATE:20210730
DTEND;VALUE=DATE:20210815
DTSTAMP:20260421T201545
CREATED:20210331T093737Z
LAST-MODIFIED:20210331T093737Z
UID:5380-1627603200-1628985599@meditationinniagara.org
SUMMARY:NKT Summer Festival
DESCRIPTION:
URL:https://meditationinniagara.org/event/nkt-summer-festival-2/
LOCATION:Ontario
END:VEVENT
BEGIN:VEVENT
DTSTART;TZID=America/Toronto:20210717T090000
DTEND;TZID=America/Toronto:20210717T153000
DTSTAMP:20260421T201545
CREATED:20210711T193339Z
LAST-MODIFIED:20210711T193339Z
UID:5597-1626512400-1626535800@meditationinniagara.org
SUMMARY:Impermanence of the Mind Retreat
DESCRIPTION:
URL:https://meditationinniagara.org/event/impermanence-of-the-mind-retreat/
LOCATION:Ontario
CATEGORIES:Meditation Retreat
END:VEVENT
BEGIN:VEVENT
DTSTART;TZID=America/Toronto:20210629T193000
DTEND;TZID=America/Toronto:20210629T204000
DTSTAMP:20260421T201545
CREATED:20210424T145446Z
LAST-MODIFIED:20210424T145446Z
UID:5440-1624995000-1624999200@meditationinniagara.org
SUMMARY:General Program Online
DESCRIPTION:
URL:https://meditationinniagara.org/event/general-program-online-26/
LOCATION:Ontario
CATEGORIES:General Program Meditation Class
END:VEVENT
BEGIN:VEVENT
DTSTART;TZID=America/Toronto:20210626T090000
DTEND;TZID=America/Toronto:20210626T153000
DTSTAMP:20260421T201545
CREATED:20210515T224730Z
LAST-MODIFIED:20210515T224730Z
UID:5474-1624698000-1624721400@meditationinniagara.org
SUMMARY:Improving Concentration Retreat
DESCRIPTION:
URL:https://meditationinniagara.org/event/improving-concentration-retreat/
LOCATION:Ontario
END:VEVENT
BEGIN:VEVENT
DTSTART;TZID=America/Toronto:20210624T193000
DTEND;TZID=America/Toronto:20210624T204000
DTSTAMP:20260421T201545
CREATED:20210424T144844Z
LAST-MODIFIED:20210424T144844Z
UID:5430-1624563000-1624567200@meditationinniagara.org
SUMMARY:General Program Online
DESCRIPTION:
URL:https://meditationinniagara.org/event/general-program-online-21/
LOCATION:Ontario
CATEGORIES:General Program Meditation Class
END:VEVENT
BEGIN:VEVENT
DTSTART;TZID=America/Toronto:20210622T193000
DTEND;TZID=America/Toronto:20210622T204000
DTSTAMP:20260421T201545
CREATED:20210424T145348Z
LAST-MODIFIED:20210424T145348Z
UID:5438-1624390200-1624394400@meditationinniagara.org
SUMMARY:General Program Online
DESCRIPTION:
URL:https://meditationinniagara.org/event/general-program-online-25/
LOCATION:Ontario
CATEGORIES:General Program Meditation Class
END:VEVENT
BEGIN:VEVENT
DTSTART;TZID=America/Toronto:20210617T193000
DTEND;TZID=America/Toronto:20210617T204000
DTSTAMP:20260421T201545
CREATED:20210424T144738Z
LAST-MODIFIED:20210424T144738Z
UID:5428-1623958200-1623962400@meditationinniagara.org
SUMMARY:General Program Online
DESCRIPTION:
URL:https://meditationinniagara.org/event/general-program-online-20/
LOCATION:Ontario
CATEGORIES:General Program Meditation Class
END:VEVENT
BEGIN:VEVENT
DTSTART;TZID=America/Toronto:20210615T193000
DTEND;TZID=America/Toronto:20210615T204000
DTSTAMP:20260421T201545
CREATED:20210424T145248Z
LAST-MODIFIED:20210424T145248Z
UID:5436-1623785400-1623789600@meditationinniagara.org
SUMMARY:General Program Online
DESCRIPTION:
URL:https://meditationinniagara.org/event/general-program-online-24/
LOCATION:Ontario
CATEGORIES:General Program Meditation Class
END:VEVENT
BEGIN:VEVENT
DTSTART;VALUE=DATE:20210611
DTEND;VALUE=DATE:20210616
DTSTAMP:20260421T201545
CREATED:20210331T092230Z
LAST-MODIFIED:20210331T092230Z
UID:5360-1623369600-1623801599@meditationinniagara.org
SUMMARY:Canadian Festival
DESCRIPTION:
URL:https://meditationinniagara.org/event/canadian-festival/
LOCATION:Ontario
END:VEVENT
BEGIN:VEVENT
DTSTART;TZID=America/Toronto:20210610T193000
DTEND;TZID=America/Toronto:20210610T204000
DTSTAMP:20260421T201545
CREATED:20210424T144642Z
LAST-MODIFIED:20210424T144642Z
UID:5426-1623353400-1623357600@meditationinniagara.org
SUMMARY:General Program Online
DESCRIPTION:
URL:https://meditationinniagara.org/event/general-program-online-19/
LOCATION:Ontario
CATEGORIES:General Program Meditation Class
END:VEVENT
BEGIN:VEVENT
DTSTART;TZID=America/Toronto:20210608T193000
DTEND;TZID=America/Toronto:20210608T204000
DTSTAMP:20260421T201545
CREATED:20210424T145148Z
LAST-MODIFIED:20210424T145148Z
UID:5434-1623180600-1623184800@meditationinniagara.org
SUMMARY:General Program Online
DESCRIPTION:
URL:https://meditationinniagara.org/event/general-program-online-23/
LOCATION:Ontario
CATEGORIES:General Program Meditation Class
END:VEVENT
BEGIN:VEVENT
DTSTART;TZID=America/Toronto:20210606T173000
DTEND;TZID=America/Toronto:20210606T204000
DTSTAMP:20260421T201545
CREATED:20210331T093300Z
LAST-MODIFIED:20210331T093300Z
UID:5376-1623000600-1623012000@meditationinniagara.org
SUMMARY:Foundation Program [end of term]
DESCRIPTION:
URL:https://meditationinniagara.org/event/foundation-program-end-of-term-2/
LOCATION:Ontario
CATEGORIES:Foundation Program
END:VEVENT
BEGIN:VEVENT
DTSTART;TZID=America/Toronto:20210604T100000
DTEND;TZID=America/Toronto:20210604T180000
DTSTAMP:20260421T201545
CREATED:20210515T224436Z
LAST-MODIFIED:20210515T224436Z
UID:5472-1622800800-1622829600@meditationinniagara.org
SUMMARY:Geshe-la's 90th Birthday Celebration
DESCRIPTION:
URL:https://meditationinniagara.org/event/geshe-las-90th-birthday-celebration/
LOCATION:Ontario
END:VEVENT
BEGIN:VEVENT
DTSTART;TZID=America/Toronto:20210603T193000
DTEND;TZID=America/Toronto:20210603T204000
DTSTAMP:20260421T201545
CREATED:20210424T144528Z
LAST-MODIFIED:20210424T144528Z
UID:5424-1622748600-1622752800@meditationinniagara.org
SUMMARY:General Program Online
DESCRIPTION:
URL:https://meditationinniagara.org/event/general-program-online-18/
LOCATION:Ontario
CATEGORIES:General Program Meditation Class
END:VEVENT
END:VCALENDAR