BEGIN:VCALENDAR
VERSION:2.0
PRODID:-//Meditation In Niagara - ECPv6.15.20//NONSGML v1.0//EN
CALSCALE:GREGORIAN
METHOD:PUBLISH
X-WR-CALNAME:Meditation In Niagara
X-ORIGINAL-URL:https://meditationinniagara.org
X-WR-CALDESC:Events for Meditation In Niagara
REFRESH-INTERVAL;VALUE=DURATION:PT1H
X-Robots-Tag:noindex
X-PUBLISHED-TTL:PT1H
BEGIN:VTIMEZONE
TZID:America/Toronto
BEGIN:DAYLIGHT
TZOFFSETFROM:-0500
TZOFFSETTO:-0400
TZNAME:EDT
DTSTART:20180311T070000
END:DAYLIGHT
BEGIN:STANDARD
TZOFFSETFROM:-0400
TZOFFSETTO:-0500
TZNAME:EST
DTSTART:20181104T060000
END:STANDARD
BEGIN:DAYLIGHT
TZOFFSETFROM:-0500
TZOFFSETTO:-0400
TZNAME:EDT
DTSTART:20190310T070000
END:DAYLIGHT
BEGIN:STANDARD
TZOFFSETFROM:-0400
TZOFFSETTO:-0500
TZNAME:EST
DTSTART:20191103T060000
END:STANDARD
BEGIN:DAYLIGHT
TZOFFSETFROM:-0500
TZOFFSETTO:-0400
TZNAME:EDT
DTSTART:20200308T070000
END:DAYLIGHT
BEGIN:STANDARD
TZOFFSETFROM:-0400
TZOFFSETTO:-0500
TZNAME:EST
DTSTART:20201101T060000
END:STANDARD
END:VTIMEZONE
BEGIN:VEVENT
DTSTART;TZID=America/Toronto:20191208T173000
DTEND;TZID=America/Toronto:20191208T203000
DTSTAMP:20260420T171312
CREATED:20190113T163735Z
LAST-MODIFIED:20190113T163735Z
UID:4305-1575826200-1575837000@meditationinniagara.org
SUMMARY:Foundation Program
DESCRIPTION:
URL:https://meditationinniagara.org/event/foundation-program-88/
CATEGORIES:Foundation Program
END:VEVENT
BEGIN:VEVENT
DTSTART;TZID=America/Toronto:20191205T190000
DTEND;TZID=America/Toronto:20191205T210000
DTSTAMP:20260420T171312
CREATED:20190719T232822Z
LAST-MODIFIED:20190719T232822Z
UID:4617-1575572400-1575579600@meditationinniagara.org
SUMMARY:St Catharines
DESCRIPTION:
URL:https://meditationinniagara.org/event/st-catharines-124/
CATEGORIES:General Program Meditation Class
END:VEVENT
BEGIN:VEVENT
DTSTART;TZID=America/Toronto:20191203T190000
DTEND;TZID=America/Toronto:20191203T210000
DTSTAMP:20260420T171312
CREATED:20190719T231411Z
LAST-MODIFIED:20190719T231411Z
UID:4597-1575399600-1575406800@meditationinniagara.org
SUMMARY:Fonthill/Pelham
DESCRIPTION:
URL:https://meditationinniagara.org/event/fonthill-pelham-54/
CATEGORIES:General Program Meditation Class
END:VEVENT
BEGIN:VEVENT
DTSTART;TZID=America/Toronto:20191201T173000
DTEND;TZID=America/Toronto:20191201T203000
DTSTAMP:20260420T171312
CREATED:20190113T163646Z
LAST-MODIFIED:20190113T163646Z
UID:4303-1575221400-1575232200@meditationinniagara.org
SUMMARY:Foundation Program
DESCRIPTION:
URL:https://meditationinniagara.org/event/foundation-program-87/
CATEGORIES:Foundation Program
END:VEVENT
BEGIN:VEVENT
DTSTART;TZID=America/Toronto:20191128T190000
DTEND;TZID=America/Toronto:20191128T210000
DTSTAMP:20260420T171312
CREATED:20190719T233010Z
LAST-MODIFIED:20190719T233010Z
UID:4619-1574967600-1574974800@meditationinniagara.org
SUMMARY:St Catharines
DESCRIPTION:
URL:https://meditationinniagara.org/event/st-catharines-125/
CATEGORIES:General Program Meditation Class
END:VEVENT
BEGIN:VEVENT
DTSTART;TZID=America/Toronto:20191126T190000
DTEND;TZID=America/Toronto:20191126T210000
DTSTAMP:20260420T171312
CREATED:20190719T231307Z
LAST-MODIFIED:20190719T231307Z
UID:4595-1574794800-1574802000@meditationinniagara.org
SUMMARY:Fonthill/Pelham
DESCRIPTION:
URL:https://meditationinniagara.org/event/fonthill-pelham-53/
CATEGORIES:General Program Meditation Class
END:VEVENT
BEGIN:VEVENT
DTSTART;TZID=America/Toronto:20191124T173000
DTEND;TZID=America/Toronto:20191124T203000
DTSTAMP:20260420T171312
CREATED:20190113T163554Z
LAST-MODIFIED:20190113T163554Z
UID:4301-1574616600-1574627400@meditationinniagara.org
SUMMARY:Foundation Program
DESCRIPTION:
URL:https://meditationinniagara.org/event/foundation-program-86/
CATEGORIES:Foundation Program
END:VEVENT
BEGIN:VEVENT
DTSTART;TZID=America/Toronto:20191123T090000
DTEND;TZID=America/Toronto:20191123T170000
DTSTAMP:20260420T171312
CREATED:20190728T224800Z
LAST-MODIFIED:20190728T224926Z
UID:4633-1574499600-1574528400@meditationinniagara.org
SUMMARY:Refuge Day Retreat
DESCRIPTION:
URL:https://meditationinniagara.org/event/refuge-retreat/
CATEGORIES:Meditation Retreat
END:VEVENT
BEGIN:VEVENT
DTSTART;TZID=America/Toronto:20191121T190000
DTEND;TZID=America/Toronto:20191121T210000
DTSTAMP:20260420T171312
CREATED:20190719T232634Z
LAST-MODIFIED:20190719T232634Z
UID:4615-1574362800-1574370000@meditationinniagara.org
SUMMARY:St Catharines
DESCRIPTION:
URL:https://meditationinniagara.org/event/st-catharines-123/
CATEGORIES:General Program Meditation Class
END:VEVENT
BEGIN:VEVENT
DTSTART;TZID=America/Toronto:20191119T190000
DTEND;TZID=America/Toronto:20191119T210000
DTSTAMP:20260420T171312
CREATED:20190719T231155Z
LAST-MODIFIED:20190719T231155Z
UID:4593-1574190000-1574197200@meditationinniagara.org
SUMMARY:Fonthill/Pelham
DESCRIPTION:
URL:https://meditationinniagara.org/event/fonthill-pelham-52/
CATEGORIES:General Program Meditation Class
END:VEVENT
BEGIN:VEVENT
DTSTART;TZID=America/Toronto:20191117T173000
DTEND;TZID=America/Toronto:20191117T203000
DTSTAMP:20260420T171312
CREATED:20190113T163512Z
LAST-MODIFIED:20190113T163512Z
UID:4299-1574011800-1574022600@meditationinniagara.org
SUMMARY:Foundation Program
DESCRIPTION:
URL:https://meditationinniagara.org/event/foundation-program-85/
CATEGORIES:Foundation Program
END:VEVENT
BEGIN:VEVENT
DTSTART;TZID=America/Toronto:20191114T190000
DTEND;TZID=America/Toronto:20191114T210000
DTSTAMP:20260420T171312
CREATED:20190719T232508Z
LAST-MODIFIED:20190719T232508Z
UID:4613-1573758000-1573765200@meditationinniagara.org
SUMMARY:St Catharines
DESCRIPTION:
URL:https://meditationinniagara.org/event/st-catharines-122/
CATEGORIES:General Program Meditation Class
END:VEVENT
BEGIN:VEVENT
DTSTART;TZID=America/Toronto:20191112T190000
DTEND;TZID=America/Toronto:20191112T210000
DTSTAMP:20260420T171312
CREATED:20190719T231029Z
LAST-MODIFIED:20190719T231029Z
UID:4591-1573585200-1573592400@meditationinniagara.org
SUMMARY:Fonthill/Pelham
DESCRIPTION:
URL:https://meditationinniagara.org/event/fonthill-pelham-51/
CATEGORIES:General Program Meditation Class
END:VEVENT
BEGIN:VEVENT
DTSTART;TZID=America/Toronto:20191108T193000
DTEND;TZID=America/Toronto:20191110T180000
DTSTAMP:20260420T171312
CREATED:20190824T130723Z
LAST-MODIFIED:20190824T130723Z
UID:4649-1573241400-1573408800@meditationinniagara.org
SUMMARY:Ontario Dharma Celebration
DESCRIPTION:
URL:https://meditationinniagara.org/event/ontario-dharma-celebration/
LOCATION:Kadampa Meditation Centre Canada\, 631 Crawford St\, Toronto\, Ontario\, M6G 3K1
END:VEVENT
BEGIN:VEVENT
DTSTART;TZID=America/Toronto:20191107T190000
DTEND;TZID=America/Toronto:20191107T210000
DTSTAMP:20260420T171313
CREATED:20190719T232358Z
LAST-MODIFIED:20190719T232358Z
UID:4611-1573153200-1573160400@meditationinniagara.org
SUMMARY:St Catharines
DESCRIPTION:
URL:https://meditationinniagara.org/event/st-catharines-121/
CATEGORIES:General Program Meditation Class
END:VEVENT
BEGIN:VEVENT
DTSTART;TZID=America/Toronto:20191105T190000
DTEND;TZID=America/Toronto:20191105T210000
DTSTAMP:20260420T171313
CREATED:20190719T230925Z
LAST-MODIFIED:20190719T230925Z
UID:4589-1572980400-1572987600@meditationinniagara.org
SUMMARY:Fonthill/Pelham
DESCRIPTION:
URL:https://meditationinniagara.org/event/fonthill-pelham-50/
CATEGORIES:General Program Meditation Class
END:VEVENT
BEGIN:VEVENT
DTSTART;TZID=America/Toronto:20191103T173000
DTEND;TZID=America/Toronto:20191103T203000
DTSTAMP:20260420T171313
CREATED:20190113T163428Z
LAST-MODIFIED:20190113T163428Z
UID:4297-1572802200-1572813000@meditationinniagara.org
SUMMARY:Foundation Program
DESCRIPTION:
URL:https://meditationinniagara.org/event/foundation-program-84/
CATEGORIES:Foundation Program
END:VEVENT
BEGIN:VEVENT
DTSTART;TZID=America/Toronto:20191031T190000
DTEND;TZID=America/Toronto:20191031T210000
DTSTAMP:20260420T171313
CREATED:20190719T232250Z
LAST-MODIFIED:20190719T232250Z
UID:4609-1572548400-1572555600@meditationinniagara.org
SUMMARY:St Catharines
DESCRIPTION:
URL:https://meditationinniagara.org/event/st-catharines-120/
CATEGORIES:General Program Meditation Class
END:VEVENT
BEGIN:VEVENT
DTSTART;TZID=America/Toronto:20191029T190000
DTEND;TZID=America/Toronto:20191029T210000
DTSTAMP:20260420T171313
CREATED:20190719T230752Z
LAST-MODIFIED:20190719T230752Z
UID:4586-1572375600-1572382800@meditationinniagara.org
SUMMARY:Fonthill/Pelham
DESCRIPTION:
URL:https://meditationinniagara.org/event/fonthill-pelham-49/
CATEGORIES:General Program Meditation Class
END:VEVENT
BEGIN:VEVENT
DTSTART;TZID=America/Toronto:20191027T173000
DTEND;TZID=America/Toronto:20191027T203000
DTSTAMP:20260420T171313
CREATED:20190113T163247Z
LAST-MODIFIED:20190113T163247Z
UID:4295-1572197400-1572208200@meditationinniagara.org
SUMMARY:Foundation Program
DESCRIPTION:
URL:https://meditationinniagara.org/event/foundation-program-83/
CATEGORIES:Foundation Program
END:VEVENT
BEGIN:VEVENT
DTSTART;TZID=America/Toronto:20191024T190000
DTEND;TZID=America/Toronto:20191024T210000
DTSTAMP:20260420T171313
CREATED:20190719T232148Z
LAST-MODIFIED:20190719T232148Z
UID:4607-1571943600-1571950800@meditationinniagara.org
SUMMARY:St Catharines
DESCRIPTION:
URL:https://meditationinniagara.org/event/st-catharines-119/
CATEGORIES:General Program Meditation Class
END:VEVENT
BEGIN:VEVENT
DTSTART;TZID=America/Toronto:20191022T190000
DTEND;TZID=America/Toronto:20191022T210000
DTSTAMP:20260420T171313
CREATED:20190719T230547Z
LAST-MODIFIED:20190719T230547Z
UID:4584-1571770800-1571778000@meditationinniagara.org
SUMMARY:Fonthill/Pelham
DESCRIPTION:
URL:https://meditationinniagara.org/event/fonthill-pelham-48/
CATEGORIES:General Program Meditation Class
END:VEVENT
BEGIN:VEVENT
DTSTART;TZID=America/Toronto:20191020T173000
DTEND;TZID=America/Toronto:20191020T203000
DTSTAMP:20260420T171313
CREATED:20190113T163200Z
LAST-MODIFIED:20190113T163200Z
UID:4293-1571592600-1571603400@meditationinniagara.org
SUMMARY:Foundation Program
DESCRIPTION:
URL:https://meditationinniagara.org/event/foundation-program-82/
CATEGORIES:Foundation Program
END:VEVENT
BEGIN:VEVENT
DTSTART;TZID=America/Toronto:20191019T090000
DTEND;TZID=America/Toronto:20191019T170000
DTSTAMP:20260420T171313
CREATED:20190713T222408Z
LAST-MODIFIED:20190719T234103Z
UID:4545-1571475600-1571504400@meditationinniagara.org
SUMMARY:Purification Day Retreat
DESCRIPTION:
URL:https://meditationinniagara.org/event/day-course-26/
CATEGORIES:Meditation Retreat
END:VEVENT
BEGIN:VEVENT
DTSTART;TZID=America/Toronto:20191017T190000
DTEND;TZID=America/Toronto:20191017T210000
DTSTAMP:20260420T171313
CREATED:20190719T232041Z
LAST-MODIFIED:20190719T232041Z
UID:4605-1571338800-1571346000@meditationinniagara.org
SUMMARY:St Catharines
DESCRIPTION:
URL:https://meditationinniagara.org/event/st-catharines-118/
CATEGORIES:General Program Meditation Class
END:VEVENT
BEGIN:VEVENT
DTSTART;TZID=America/Toronto:20191015T190000
DTEND;TZID=America/Toronto:20191015T210000
DTSTAMP:20260420T171313
CREATED:20190719T230422Z
LAST-MODIFIED:20190719T230651Z
UID:4582-1571166000-1571173200@meditationinniagara.org
SUMMARY:Fonthill/Pelham
DESCRIPTION:
URL:https://meditationinniagara.org/event/fonthill-pelham-47/
CATEGORIES:General Program Meditation Class
END:VEVENT
BEGIN:VEVENT
DTSTART;TZID=America/Toronto:20191010T190000
DTEND;TZID=America/Toronto:20191010T210000
DTSTAMP:20260420T171313
CREATED:20190719T231907Z
LAST-MODIFIED:20190719T231907Z
UID:4603-1570734000-1570741200@meditationinniagara.org
SUMMARY:St Catharines
DESCRIPTION:
URL:https://meditationinniagara.org/event/st-catharines-117/
CATEGORIES:General Program Meditation Class
END:VEVENT
BEGIN:VEVENT
DTSTART;TZID=America/Toronto:20191008T190000
DTEND;TZID=America/Toronto:20191008T210000
DTSTAMP:20260420T171313
CREATED:20190719T230051Z
LAST-MODIFIED:20190719T230340Z
UID:4580-1570561200-1570568400@meditationinniagara.org
SUMMARY:Fonthill/Pelham
DESCRIPTION:
URL:https://meditationinniagara.org/event/fonthill-pelham-46/
CATEGORIES:General Program Meditation Class
END:VEVENT
BEGIN:VEVENT
DTSTART;TZID=America/Toronto:20191006T173000
DTEND;TZID=America/Toronto:20191006T203000
DTSTAMP:20260420T171313
CREATED:20190718T150011Z
LAST-MODIFIED:20190718T150011Z
UID:4575-1570383000-1570393800@meditationinniagara.org
SUMMARY:Foundation Program
DESCRIPTION:
URL:https://meditationinniagara.org/event/foundation-program-75/
CATEGORIES:Foundation Program
END:VEVENT
BEGIN:VEVENT
DTSTART;TZID=America/Toronto:20191003T190000
DTEND;TZID=America/Toronto:20191003T210000
DTSTAMP:20260420T171313
CREATED:20190718T145630Z
LAST-MODIFIED:20190718T145630Z
UID:4571-1570129200-1570136400@meditationinniagara.org
SUMMARY:St Catharines
DESCRIPTION:
URL:https://meditationinniagara.org/event/st-catharines-116/
CATEGORIES:General Program Meditation Class
END:VEVENT
END:VCALENDAR