BEGIN:VCALENDAR
VERSION:2.0
PRODID:-//Meditation In Niagara - ECPv6.15.20//NONSGML v1.0//EN
CALSCALE:GREGORIAN
METHOD:PUBLISH
X-WR-CALNAME:Meditation In Niagara
X-ORIGINAL-URL:https://meditationinniagara.org
X-WR-CALDESC:Events for Meditation In Niagara
REFRESH-INTERVAL;VALUE=DURATION:PT1H
X-Robots-Tag:noindex
X-PUBLISHED-TTL:PT1H
BEGIN:VTIMEZONE
TZID:America/Toronto
BEGIN:DAYLIGHT
TZOFFSETFROM:-0500
TZOFFSETTO:-0400
TZNAME:EDT
DTSTART:20190310T070000
END:DAYLIGHT
BEGIN:STANDARD
TZOFFSETFROM:-0400
TZOFFSETTO:-0500
TZNAME:EST
DTSTART:20191103T060000
END:STANDARD
BEGIN:DAYLIGHT
TZOFFSETFROM:-0500
TZOFFSETTO:-0400
TZNAME:EDT
DTSTART:20200308T070000
END:DAYLIGHT
BEGIN:STANDARD
TZOFFSETFROM:-0400
TZOFFSETTO:-0500
TZNAME:EST
DTSTART:20201101T060000
END:STANDARD
BEGIN:DAYLIGHT
TZOFFSETFROM:-0500
TZOFFSETTO:-0400
TZNAME:EDT
DTSTART:20210314T070000
END:DAYLIGHT
BEGIN:STANDARD
TZOFFSETFROM:-0400
TZOFFSETTO:-0500
TZNAME:EST
DTSTART:20211107T060000
END:STANDARD
END:VTIMEZONE
BEGIN:VEVENT
DTSTART;TZID=America/Toronto:20200609T190000
DTEND;TZID=America/Toronto:20200609T210000
DTSTAMP:20260421T233040
CREATED:20200130T200445Z
LAST-MODIFIED:20200130T200445Z
UID:4869-1591729200-1591736400@meditationinniagara.org
SUMMARY:Fonthill/Pelham
DESCRIPTION:
URL:https://meditationinniagara.org/event/fonthill-pelham-60/
CATEGORIES:General Program Meditation Class
END:VEVENT
BEGIN:VEVENT
DTSTART;VALUE=DATE:20200605
DTEND;VALUE=DATE:20200610
DTSTAMP:20260421T233040
CREATED:20190825T024356Z
LAST-MODIFIED:20200205T132402Z
UID:4656-1591315200-1591747199@meditationinniagara.org
SUMMARY:Canadian Dharma Festival
DESCRIPTION:
URL:https://meditationinniagara.org/event/canadian-dharma-festival/
LOCATION:Kadampa Meditation Centre Canada\, 631 Crawford St\, Toronto\, Ontario\, M6G 3K1
END:VEVENT
BEGIN:VEVENT
DTSTART;TZID=America/Toronto:20200604T190000
DTEND;TZID=America/Toronto:20200604T210000
DTSTAMP:20260421T233040
CREATED:20200130T201810Z
LAST-MODIFIED:20200130T201810Z
UID:4887-1591297200-1591304400@meditationinniagara.org
SUMMARY:St Catharines
DESCRIPTION:
URL:https://meditationinniagara.org/event/st-catharines-22/
CATEGORIES:General Program Meditation Class
END:VEVENT
BEGIN:VEVENT
DTSTART;TZID=America/Toronto:20200602T190000
DTEND;TZID=America/Toronto:20200602T210000
DTSTAMP:20260421T233040
CREATED:20200130T200322Z
LAST-MODIFIED:20200130T200322Z
UID:4867-1591124400-1591131600@meditationinniagara.org
SUMMARY:Fonthill/Pelham
DESCRIPTION:
URL:https://meditationinniagara.org/event/fonthill-pelham-59/
CATEGORIES:General Program Meditation Class
END:VEVENT
BEGIN:VEVENT
DTSTART;TZID=America/Toronto:20200531T173000
DTEND;TZID=America/Toronto:20200531T203000
DTSTAMP:20260421T233040
CREATED:20191215T021132Z
LAST-MODIFIED:20191215T021329Z
UID:4782-1590946200-1590957000@meditationinniagara.org
SUMMARY:Foundation Program [End of term]
DESCRIPTION:
URL:https://meditationinniagara.org/event/foundation-program-21/
CATEGORIES:Foundation Program
END:VEVENT
BEGIN:VEVENT
DTSTART;TZID=America/Toronto:20200528T190000
DTEND;TZID=America/Toronto:20200528T210000
DTSTAMP:20260421T233040
CREATED:20200130T201700Z
LAST-MODIFIED:20200130T201700Z
UID:4885-1590692400-1590699600@meditationinniagara.org
SUMMARY:St Catharines
DESCRIPTION:
URL:https://meditationinniagara.org/event/st-catharines-21/
CATEGORIES:General Program Meditation Class
END:VEVENT
BEGIN:VEVENT
DTSTART;TZID=America/Toronto:20200526T190000
DTEND;TZID=America/Toronto:20200526T210000
DTSTAMP:20260421T233040
CREATED:20200130T200205Z
LAST-MODIFIED:20200130T200205Z
UID:4865-1590519600-1590526800@meditationinniagara.org
SUMMARY:Fonthill/Pelham
DESCRIPTION:
URL:https://meditationinniagara.org/event/fonthill-pelham-58/
CATEGORIES:General Program Meditation Class
END:VEVENT
BEGIN:VEVENT
DTSTART;TZID=America/Toronto:20200524T173000
DTEND;TZID=America/Toronto:20200524T203000
DTSTAMP:20260421T233040
CREATED:20191215T021018Z
LAST-MODIFIED:20191215T021018Z
UID:4780-1590341400-1590352200@meditationinniagara.org
SUMMARY:Foundation Program
DESCRIPTION:
URL:https://meditationinniagara.org/event/foundation-program-20/
CATEGORIES:Foundation Program
END:VEVENT
BEGIN:VEVENT
DTSTART;VALUE=DATE:20200522
DTEND;VALUE=DATE:20200528
DTSTAMP:20260421T233040
CREATED:20190824T073513Z
LAST-MODIFIED:20190824T073939Z
UID:4642-1590105600-1590623999@meditationinniagara.org
SUMMARY:NKT Spring Festival
DESCRIPTION:
URL:https://meditationinniagara.org/event/nkt-sring-festival/
LOCATION:Manjushri Kadampa Meditation Centre\, Conishead Priory\, Ulverston\, Cumbria\, LA12 9QQ\, United Kingdom
END:VEVENT
BEGIN:VEVENT
DTSTART;TZID=America/Toronto:20200521T190000
DTEND;TZID=America/Toronto:20200521T210000
DTSTAMP:20260421T233040
CREATED:20200130T201546Z
LAST-MODIFIED:20200130T201546Z
UID:4883-1590087600-1590094800@meditationinniagara.org
SUMMARY:St Catharines
DESCRIPTION:
URL:https://meditationinniagara.org/event/st-catharines-20/
CATEGORIES:General Program Meditation Class
END:VEVENT
BEGIN:VEVENT
DTSTART;TZID=America/Toronto:20200519T190000
DTEND;TZID=America/Toronto:20200519T210000
DTSTAMP:20260421T233040
CREATED:20200130T200012Z
LAST-MODIFIED:20200130T200012Z
UID:4863-1589914800-1589922000@meditationinniagara.org
SUMMARY:Fonthill/Pelham
DESCRIPTION:
URL:https://meditationinniagara.org/event/fonthill-pelham-57/
CATEGORIES:General Program Meditation Class
END:VEVENT
BEGIN:VEVENT
DTSTART;TZID=America/Toronto:20200517T173000
DTEND;TZID=America/Toronto:20200517T203000
DTSTAMP:20260421T233040
CREATED:20191215T020443Z
LAST-MODIFIED:20191215T020443Z
UID:4778-1589736600-1589747400@meditationinniagara.org
SUMMARY:Foundation Program
DESCRIPTION:
URL:https://meditationinniagara.org/event/foundation-program-19/
CATEGORIES:Foundation Program
END:VEVENT
BEGIN:VEVENT
DTSTART;TZID=America/Toronto:20200514T190000
DTEND;TZID=America/Toronto:20200514T210000
DTSTAMP:20260421T233040
CREATED:20200130T201406Z
LAST-MODIFIED:20200130T201406Z
UID:4881-1589482800-1589490000@meditationinniagara.org
SUMMARY:St Catharines
DESCRIPTION:
URL:https://meditationinniagara.org/event/st-catharines-19/
CATEGORIES:General Program Meditation Class
END:VEVENT
BEGIN:VEVENT
DTSTART;TZID=America/Toronto:20200512T190000
DTEND;TZID=America/Toronto:20200512T210000
DTSTAMP:20260421T233040
CREATED:20200130T195805Z
LAST-MODIFIED:20200130T195805Z
UID:4861-1589310000-1589317200@meditationinniagara.org
SUMMARY:Fonthill/Pelham
DESCRIPTION:
URL:https://meditationinniagara.org/event/fonthill-pelham-16/
CATEGORIES:General Program Meditation Class
END:VEVENT
BEGIN:VEVENT
DTSTART;TZID=America/Toronto:20200507T190000
DTEND;TZID=America/Toronto:20200507T210000
DTSTAMP:20260421T233040
CREATED:20200130T201242Z
LAST-MODIFIED:20200130T201242Z
UID:4879-1588878000-1588885200@meditationinniagara.org
SUMMARY:St Catharines
DESCRIPTION:
URL:https://meditationinniagara.org/event/st-catharines-18/
CATEGORIES:General Program Meditation Class
END:VEVENT
BEGIN:VEVENT
DTSTART;TZID=America/Toronto:20200505T190000
DTEND;TZID=America/Toronto:20200505T210000
DTSTAMP:20260421T233040
CREATED:20200130T195624Z
LAST-MODIFIED:20200130T195624Z
UID:4859-1588705200-1588712400@meditationinniagara.org
SUMMARY:Fonthill/Pelham
DESCRIPTION:
URL:https://meditationinniagara.org/event/fonthill-pelham-15/
CATEGORIES:General Program Meditation Class
END:VEVENT
BEGIN:VEVENT
DTSTART;TZID=America/Toronto:20200503T173000
DTEND;TZID=America/Toronto:20200503T203000
DTSTAMP:20260421T233040
CREATED:20191215T020256Z
LAST-MODIFIED:20191215T020256Z
UID:4776-1588527000-1588537800@meditationinniagara.org
SUMMARY:Foundation Program
DESCRIPTION:
URL:https://meditationinniagara.org/event/foundation-program-18/
CATEGORIES:Foundation Program
END:VEVENT
BEGIN:VEVENT
DTSTART;TZID=America/Toronto:20200430T190000
DTEND;TZID=America/Toronto:20200430T210000
DTSTAMP:20260421T233040
CREATED:20200130T201112Z
LAST-MODIFIED:20200130T201112Z
UID:4877-1588273200-1588280400@meditationinniagara.org
SUMMARY:St Catharines
DESCRIPTION:
URL:https://meditationinniagara.org/event/st-catharines-17/
CATEGORIES:General Program Meditation Class
END:VEVENT
BEGIN:VEVENT
DTSTART;TZID=America/Toronto:20200428T190000
DTEND;TZID=America/Toronto:20200428T210000
DTSTAMP:20260421T233040
CREATED:20200130T195416Z
LAST-MODIFIED:20200130T195416Z
UID:4857-1588100400-1588107600@meditationinniagara.org
SUMMARY:Fonthill/Pelham
DESCRIPTION:
URL:https://meditationinniagara.org/event/fonthill-pelham-14/
CATEGORIES:General Program Meditation Class
END:VEVENT
BEGIN:VEVENT
DTSTART;TZID=America/Toronto:20200426T173000
DTEND;TZID=America/Toronto:20200426T203000
DTSTAMP:20260421T233040
CREATED:20191215T015833Z
LAST-MODIFIED:20191215T015833Z
UID:4774-1587922200-1587933000@meditationinniagara.org
SUMMARY:Foundation Program
DESCRIPTION:
URL:https://meditationinniagara.org/event/foundation-program-17/
CATEGORIES:Foundation Program
END:VEVENT
BEGIN:VEVENT
DTSTART;TZID=America/Toronto:20200423T190000
DTEND;TZID=America/Toronto:20200423T210000
DTSTAMP:20260421T233040
CREATED:20200130T200954Z
LAST-MODIFIED:20200130T200954Z
UID:4875-1587668400-1587675600@meditationinniagara.org
SUMMARY:St Catharines
DESCRIPTION:
URL:https://meditationinniagara.org/event/st-catharines-16/
CATEGORIES:General Program Meditation Class
END:VEVENT
BEGIN:VEVENT
DTSTART;TZID=America/Toronto:20200421T190000
DTEND;TZID=America/Toronto:20200421T210000
DTSTAMP:20260421T233040
CREATED:20200130T195234Z
LAST-MODIFIED:20200130T195234Z
UID:4855-1587495600-1587502800@meditationinniagara.org
SUMMARY:Fonthill/Pelham
DESCRIPTION:
URL:https://meditationinniagara.org/event/fonthill-pelham-13/
CATEGORIES:General Program Meditation Class
END:VEVENT
BEGIN:VEVENT
DTSTART;TZID=America/Toronto:20200419T173000
DTEND;TZID=America/Toronto:20200419T203000
DTSTAMP:20260421T233040
CREATED:20191215T015731Z
LAST-MODIFIED:20191215T015731Z
UID:4772-1587317400-1587328200@meditationinniagara.org
SUMMARY:Foundation Program
DESCRIPTION:
URL:https://meditationinniagara.org/event/foundation-program-16/
CATEGORIES:Foundation Program
END:VEVENT
BEGIN:VEVENT
DTSTART;TZID=America/Toronto:20200418T100000
DTEND;TZID=America/Toronto:20200418T170000
DTSTAMP:20260421T233040
CREATED:20200131T024209Z
LAST-MODIFIED:20200131T024209Z
UID:4894-1587204000-1587229200@meditationinniagara.org
SUMMARY:Buddha Maitreya Empowerment
DESCRIPTION:
URL:https://meditationinniagara.org/event/buddha-maitreya-empowerment/
END:VEVENT
BEGIN:VEVENT
DTSTART;TZID=America/Toronto:20200416T190000
DTEND;TZID=America/Toronto:20200416T210000
DTSTAMP:20260421T233040
CREATED:20200130T200828Z
LAST-MODIFIED:20200130T200828Z
UID:4873-1587063600-1587070800@meditationinniagara.org
SUMMARY:St Catharines
DESCRIPTION:
URL:https://meditationinniagara.org/event/st-catharines-15/
CATEGORIES:General Program Meditation Class
END:VEVENT
BEGIN:VEVENT
DTSTART;TZID=America/Toronto:20200414T190000
DTEND;TZID=America/Toronto:20200414T210000
DTSTAMP:20260421T233040
CREATED:20200130T195103Z
LAST-MODIFIED:20200130T195103Z
UID:4851-1586890800-1586898000@meditationinniagara.org
SUMMARY:Fonthill/Pelham
DESCRIPTION:
URL:https://meditationinniagara.org/event/fonthill-pelham-12/
CATEGORIES:General Program Meditation Class
END:VEVENT
BEGIN:VEVENT
DTSTART;TZID=America/Toronto:20200412T173000
DTEND;TZID=America/Toronto:20200412T203000
DTSTAMP:20260421T233040
CREATED:20191215T015622Z
LAST-MODIFIED:20191215T015622Z
UID:4770-1586712600-1586723400@meditationinniagara.org
SUMMARY:Foundation Program
DESCRIPTION:
URL:https://meditationinniagara.org/event/foundation-program-15/
CATEGORIES:Foundation Program
END:VEVENT
BEGIN:VEVENT
DTSTART;TZID=America/Toronto:20200409T190000
DTEND;TZID=America/Toronto:20200409T210000
DTSTAMP:20260421T233040
CREATED:20200105T195323Z
LAST-MODIFIED:20200105T195323Z
UID:4826-1586458800-1586466000@meditationinniagara.org
SUMMARY:St Catharines
DESCRIPTION:
URL:https://meditationinniagara.org/event/st-catharines-14/
CATEGORIES:General Program Meditation Class
END:VEVENT
BEGIN:VEVENT
DTSTART;TZID=America/Toronto:20200407T190000
DTEND;TZID=America/Toronto:20200407T210000
DTSTAMP:20260421T233040
CREATED:20200105T182039Z
LAST-MODIFIED:20200105T182039Z
UID:4816-1586286000-1586293200@meditationinniagara.org
SUMMARY:Fonthill/Pelham
DESCRIPTION:
URL:https://meditationinniagara.org/event/fonthill-pelham-11/
CATEGORIES:General Program Meditation Class
END:VEVENT
BEGIN:VEVENT
DTSTART;TZID=America/Toronto:20200405T173000
DTEND;TZID=America/Toronto:20200405T203000
DTSTAMP:20260421T233040
CREATED:20191215T015520Z
LAST-MODIFIED:20191215T015520Z
UID:4768-1586107800-1586118600@meditationinniagara.org
SUMMARY:Foundation Program
DESCRIPTION:
URL:https://meditationinniagara.org/event/foundation-program-14/
CATEGORIES:Foundation Program
END:VEVENT
END:VCALENDAR