BEGIN:VCALENDAR
VERSION:2.0
PRODID:-//Meditation In Niagara - ECPv6.15.20//NONSGML v1.0//EN
CALSCALE:GREGORIAN
METHOD:PUBLISH
X-WR-CALNAME:Meditation In Niagara
X-ORIGINAL-URL:https://meditationinniagara.org
X-WR-CALDESC:Events for Meditation In Niagara
REFRESH-INTERVAL;VALUE=DURATION:PT1H
X-Robots-Tag:noindex
X-PUBLISHED-TTL:PT1H
BEGIN:VTIMEZONE
TZID:America/Toronto
BEGIN:DAYLIGHT
TZOFFSETFROM:-0500
TZOFFSETTO:-0400
TZNAME:EDT
DTSTART:20180311T070000
END:DAYLIGHT
BEGIN:STANDARD
TZOFFSETFROM:-0400
TZOFFSETTO:-0500
TZNAME:EST
DTSTART:20181104T060000
END:STANDARD
BEGIN:DAYLIGHT
TZOFFSETFROM:-0500
TZOFFSETTO:-0400
TZNAME:EDT
DTSTART:20190310T070000
END:DAYLIGHT
BEGIN:STANDARD
TZOFFSETFROM:-0400
TZOFFSETTO:-0500
TZNAME:EST
DTSTART:20191103T060000
END:STANDARD
BEGIN:DAYLIGHT
TZOFFSETFROM:-0500
TZOFFSETTO:-0400
TZNAME:EDT
DTSTART:20200308T070000
END:DAYLIGHT
BEGIN:STANDARD
TZOFFSETFROM:-0400
TZOFFSETTO:-0500
TZNAME:EST
DTSTART:20201101T060000
END:STANDARD
END:VTIMEZONE
BEGIN:VEVENT
DTSTART;TZID=America/Toronto:20190727T100000
DTEND;TZID=America/Toronto:20190727T130000
DTSTAMP:20260422T182533
CREATED:20190613T081721Z
LAST-MODIFIED:20190613T081721Z
UID:4522-1564221600-1564232400@meditationinniagara.org
SUMMARY:Day Course
DESCRIPTION:
URL:https://meditationinniagara.org/event/day-course-23/
CATEGORIES:Day Course
END:VEVENT
BEGIN:VEVENT
DTSTART;VALUE=DATE:20190726
DTEND;VALUE=DATE:20190811
DTSTAMP:20260422T182533
CREATED:20190113T150741Z
LAST-MODIFIED:20190309T210833Z
UID:4190-1564099200-1565481599@meditationinniagara.org
SUMMARY:NKT Summer Festival
DESCRIPTION:
URL:https://meditationinniagara.org/event/nkt-summer-festival-3/
LOCATION:Manjushri Kadampa Meditation Centre\, Conishead Priory\, Ulverston\, Cumbria\, LA12 9QQ\, United Kingdom
END:VEVENT
BEGIN:VEVENT
DTSTART;VALUE=DATE:20190713
DTEND;VALUE=DATE:20190714
DTSTAMP:20260422T182533
CREATED:20190613T081601Z
LAST-MODIFIED:20190719T234418Z
UID:4520-1562976000-1563062399@meditationinniagara.org
SUMMARY:Joyful Day Retreat
DESCRIPTION:
URL:https://meditationinniagara.org/event/day-retreat-3/
CATEGORIES:Meditation Retreat
END:VEVENT
BEGIN:VEVENT
DTSTART;TZID=America/Toronto:20190629T100000
DTEND;TZID=America/Toronto:20190629T130000
DTSTAMP:20260422T182533
CREATED:20190316T001015Z
LAST-MODIFIED:20190316T001015Z
UID:4466-1561802400-1561813200@meditationinniagara.org
SUMMARY:Day Course
DESCRIPTION:
URL:https://meditationinniagara.org/event/day-course-24/
CATEGORIES:Day Course
END:VEVENT
BEGIN:VEVENT
DTSTART;TZID=America/Toronto:20190618T190000
DTEND;TZID=America/Toronto:20190618T210000
DTSTAMP:20260422T182533
CREATED:20190315T005309Z
LAST-MODIFIED:20190315T005309Z
UID:4463-1560884400-1560891600@meditationinniagara.org
SUMMARY:Fonthill/Pelham
DESCRIPTION:
URL:https://meditationinniagara.org/event/fonthill-pelham-40/
CATEGORIES:General Program Meditation Class
END:VEVENT
BEGIN:VEVENT
DTSTART;TZID=America/Toronto:20190616T173000
DTEND;TZID=America/Toronto:20190616T203000
DTSTAMP:20260422T182533
CREATED:20190113T161940Z
LAST-MODIFIED:20190113T161940Z
UID:4279-1560706200-1560717000@meditationinniagara.org
SUMMARY:Foundation Program [end of term]
DESCRIPTION:
URL:https://meditationinniagara.org/event/foundation-program-end-of-term/
CATEGORIES:Foundation Program
END:VEVENT
BEGIN:VEVENT
DTSTART;TZID=America/Toronto:20190611T190000
DTEND;TZID=America/Toronto:20190611T210000
DTSTAMP:20260422T182533
CREATED:20190315T005138Z
LAST-MODIFIED:20190315T005138Z
UID:4461-1560279600-1560286800@meditationinniagara.org
SUMMARY:Fonthill/Pelham
DESCRIPTION:
URL:https://meditationinniagara.org/event/fonthill-pelham-39/
CATEGORIES:General Program Meditation Class
END:VEVENT
BEGIN:VEVENT
DTSTART;VALUE=DATE:20190607
DTEND;VALUE=DATE:20190612
DTSTAMP:20260422T182533
CREATED:20190113T151640Z
LAST-MODIFIED:20190309T211010Z
UID:4195-1559865600-1560297599@meditationinniagara.org
SUMMARY:Canadian Dharma Celebration
DESCRIPTION:
URL:https://meditationinniagara.org/event/canadian-dharma-celebration/
LOCATION:Kadampa Meditation Centre Canada\, 631 Crawford St\, Toronto\, Ontario\, M6G 3K1
END:VEVENT
BEGIN:VEVENT
DTSTART;TZID=America/Toronto:20190604T190000
DTEND;TZID=America/Toronto:20190604T210000
DTSTAMP:20260422T182533
CREATED:20190315T005016Z
LAST-MODIFIED:20190315T005016Z
UID:4458-1559674800-1559682000@meditationinniagara.org
SUMMARY:Fonthill/Pelham
DESCRIPTION:
URL:https://meditationinniagara.org/event/fonthill-pelham-38/
CATEGORIES:General Program Meditation Class
END:VEVENT
BEGIN:VEVENT
DTSTART;TZID=America/Toronto:20190602T173000
DTEND;TZID=America/Toronto:20190602T203000
DTSTAMP:20260422T182533
CREATED:20190113T161835Z
LAST-MODIFIED:20190113T161835Z
UID:4277-1559496600-1559507400@meditationinniagara.org
SUMMARY:Foundation Program
DESCRIPTION:
URL:https://meditationinniagara.org/event/foundation-program-77/
CATEGORIES:Foundation Program
END:VEVENT
BEGIN:VEVENT
DTSTART;TZID=America/Toronto:20190530T190000
DTEND;TZID=America/Toronto:20190530T210000
DTSTAMP:20260422T182533
CREATED:20190203T011018Z
LAST-MODIFIED:20190203T011018Z
UID:4398-1559242800-1559250000@meditationinniagara.org
SUMMARY:St Catharines
DESCRIPTION:
URL:https://meditationinniagara.org/event/st-catharines-111/
CATEGORIES:General Program Meditation Class
END:VEVENT
BEGIN:VEVENT
DTSTART;TZID=America/Toronto:20190528T190000
DTEND;TZID=America/Toronto:20190528T210000
DTSTAMP:20260422T182533
CREATED:20190203T010039Z
LAST-MODIFIED:20190203T010039Z
UID:4386-1559070000-1559077200@meditationinniagara.org
SUMMARY:Fonthill/Pelham
DESCRIPTION:
URL:https://meditationinniagara.org/event/fonthill-pelham-37/
CATEGORIES:General Program Meditation Class
END:VEVENT
BEGIN:VEVENT
DTSTART;TZID=America/Toronto:20190526T173000
DTEND;TZID=America/Toronto:20190526T203000
DTSTAMP:20260422T182533
CREATED:20190113T161639Z
LAST-MODIFIED:20190113T161639Z
UID:4275-1558891800-1558902600@meditationinniagara.org
SUMMARY:Foundation Program
DESCRIPTION:
URL:https://meditationinniagara.org/event/foundation-program-76/
CATEGORIES:Foundation Program
END:VEVENT
BEGIN:VEVENT
DTSTART;VALUE=DATE:20190524
DTEND;VALUE=DATE:20190530
DTSTAMP:20260422T182533
CREATED:20190113T150552Z
LAST-MODIFIED:20190309T210931Z
UID:4188-1558656000-1559174399@meditationinniagara.org
SUMMARY:NKT Spring Festival
DESCRIPTION:
URL:https://meditationinniagara.org/event/nkt-spring-festival-3/
LOCATION:Manjushri Kadampa Meditation Centre\, Conishead Priory\, Ulverston\, Cumbria\, LA12 9QQ\, United Kingdom
END:VEVENT
BEGIN:VEVENT
DTSTART;TZID=America/Toronto:20190523T190000
DTEND;TZID=America/Toronto:20190523T210000
DTSTAMP:20260422T182533
CREATED:20190203T010857Z
LAST-MODIFIED:20190203T010857Z
UID:4396-1558638000-1558645200@meditationinniagara.org
SUMMARY:St Catharines
DESCRIPTION:
URL:https://meditationinniagara.org/event/st-catharines-110/
CATEGORIES:General Program Meditation Class
END:VEVENT
BEGIN:VEVENT
DTSTART;TZID=America/Toronto:20190521T190000
DTEND;TZID=America/Toronto:20190521T210000
DTSTAMP:20260422T182533
CREATED:20190203T005939Z
LAST-MODIFIED:20190203T005939Z
UID:4384-1558465200-1558472400@meditationinniagara.org
SUMMARY:Fonthill/Pelham
DESCRIPTION:
URL:https://meditationinniagara.org/event/fonthill-pelham-36/
CATEGORIES:General Program Meditation Class
END:VEVENT
BEGIN:VEVENT
DTSTART;TZID=America/Toronto:20190518T100000
DTEND;TZID=America/Toronto:20190518T130000
DTSTAMP:20260422T182533
CREATED:20190113T162223Z
LAST-MODIFIED:20190316T001329Z
UID:4281-1558173600-1558184400@meditationinniagara.org
SUMMARY:Day Course
DESCRIPTION:
URL:https://meditationinniagara.org/event/day-course-22/
CATEGORIES:Day Course
END:VEVENT
BEGIN:VEVENT
DTSTART;TZID=America/Toronto:20190516T190000
DTEND;TZID=America/Toronto:20190516T210000
DTSTAMP:20260422T182533
CREATED:20190203T010724Z
LAST-MODIFIED:20190203T010724Z
UID:4394-1558033200-1558040400@meditationinniagara.org
SUMMARY:St Catharines
DESCRIPTION:
URL:https://meditationinniagara.org/event/st-catharines-109/
CATEGORIES:General Program Meditation Class
END:VEVENT
BEGIN:VEVENT
DTSTART;TZID=America/Toronto:20190514T190000
DTEND;TZID=America/Toronto:20190514T210000
DTSTAMP:20260422T182533
CREATED:20190203T005837Z
LAST-MODIFIED:20190203T005837Z
UID:4382-1557860400-1557867600@meditationinniagara.org
SUMMARY:Fonthill/Pelham
DESCRIPTION:
URL:https://meditationinniagara.org/event/fonthill-pelham-35/
CATEGORIES:General Program Meditation Class
END:VEVENT
BEGIN:VEVENT
DTSTART;TZID=America/Toronto:20190509T190000
DTEND;TZID=America/Toronto:20190509T210000
DTSTAMP:20260422T182533
CREATED:20190203T010617Z
LAST-MODIFIED:20190203T010617Z
UID:4392-1557428400-1557435600@meditationinniagara.org
SUMMARY:St Catharines
DESCRIPTION:
URL:https://meditationinniagara.org/event/st-catharines-108/
CATEGORIES:General Program Meditation Class
END:VEVENT
BEGIN:VEVENT
DTSTART;TZID=America/Toronto:20190507T190000
DTEND;TZID=America/Toronto:20190507T210000
DTSTAMP:20260422T182533
CREATED:20190203T005739Z
LAST-MODIFIED:20190203T005739Z
UID:4380-1557255600-1557262800@meditationinniagara.org
SUMMARY:Fonthill/Pelham
DESCRIPTION:
URL:https://meditationinniagara.org/event/fonthill-pelham-34/
CATEGORIES:General Program Meditation Class
END:VEVENT
BEGIN:VEVENT
DTSTART;TZID=America/Toronto:20190505T173000
DTEND;TZID=America/Toronto:20190505T203000
DTSTAMP:20260422T182533
CREATED:20190113T161410Z
LAST-MODIFIED:20190113T161410Z
UID:4269-1557077400-1557088200@meditationinniagara.org
SUMMARY:Foundation Program
DESCRIPTION:
URL:https://meditationinniagara.org/event/foundation-program-73/
CATEGORIES:Foundation Program
END:VEVENT
BEGIN:VEVENT
DTSTART;TZID=America/Toronto:20190502T190000
DTEND;TZID=America/Toronto:20190502T210000
DTSTAMP:20260422T182533
CREATED:20190203T010511Z
LAST-MODIFIED:20190203T010511Z
UID:4390-1556823600-1556830800@meditationinniagara.org
SUMMARY:St Catharines
DESCRIPTION:
URL:https://meditationinniagara.org/event/st-catharines-107/
CATEGORIES:General Program Meditation Class
END:VEVENT
BEGIN:VEVENT
DTSTART;TZID=America/Toronto:20190430T190000
DTEND;TZID=America/Toronto:20190430T210000
DTSTAMP:20260422T182533
CREATED:20190203T005639Z
LAST-MODIFIED:20190203T005639Z
UID:4378-1556650800-1556658000@meditationinniagara.org
SUMMARY:Fonthill/Pelham
DESCRIPTION:
URL:https://meditationinniagara.org/event/fonthill-pelham-33/
CATEGORIES:General Program Meditation Class
END:VEVENT
BEGIN:VEVENT
DTSTART;TZID=America/Toronto:20190428T173000
DTEND;TZID=America/Toronto:20190428T203000
DTSTAMP:20260422T182533
CREATED:20190113T161209Z
LAST-MODIFIED:20190113T161209Z
UID:4267-1556472600-1556483400@meditationinniagara.org
SUMMARY:Foundation Program
DESCRIPTION:
URL:https://meditationinniagara.org/event/foundation-program-72/
CATEGORIES:Foundation Program
END:VEVENT
BEGIN:VEVENT
DTSTART;TZID=America/Toronto:20190425T190000
DTEND;TZID=America/Toronto:20190425T210000
DTSTAMP:20260422T182534
CREATED:20190203T010409Z
LAST-MODIFIED:20190203T010409Z
UID:4388-1556218800-1556226000@meditationinniagara.org
SUMMARY:St Catharines
DESCRIPTION:
URL:https://meditationinniagara.org/event/st-catharines-106/
CATEGORIES:General Program Meditation Class
END:VEVENT
BEGIN:VEVENT
DTSTART;TZID=America/Toronto:20190423T190000
DTEND;TZID=America/Toronto:20190423T210000
DTSTAMP:20260422T182534
CREATED:20190203T005536Z
LAST-MODIFIED:20190203T005536Z
UID:4376-1556046000-1556053200@meditationinniagara.org
SUMMARY:Fonthill/Pelham
DESCRIPTION:
URL:https://meditationinniagara.org/event/fonthill-pelham-32/
CATEGORIES:General Program Meditation Class
END:VEVENT
BEGIN:VEVENT
DTSTART;TZID=America/Toronto:20190421T173000
DTEND;TZID=America/Toronto:20190421T203000
DTSTAMP:20260422T182534
CREATED:20190113T161118Z
LAST-MODIFIED:20190113T161118Z
UID:4265-1555867800-1555878600@meditationinniagara.org
SUMMARY:Foundation Program
DESCRIPTION:
URL:https://meditationinniagara.org/event/foundation-program-71/
CATEGORIES:Foundation Program
END:VEVENT
BEGIN:VEVENT
DTSTART;TZID=America/Toronto:20190418T190000
DTEND;TZID=America/Toronto:20190418T210000
DTSTAMP:20260422T182534
CREATED:20190113T160829Z
LAST-MODIFIED:20190113T160829Z
UID:4259-1555614000-1555621200@meditationinniagara.org
SUMMARY:St Catharines
DESCRIPTION:
URL:https://meditationinniagara.org/event/st-catharines-105/
CATEGORIES:General Program Meditation Class
END:VEVENT
BEGIN:VEVENT
DTSTART;TZID=America/Toronto:20190416T190000
DTEND;TZID=America/Toronto:20190416T210000
DTSTAMP:20260422T182534
CREATED:20190113T160204Z
LAST-MODIFIED:20190113T160204Z
UID:4249-1555441200-1555448400@meditationinniagara.org
SUMMARY:Fonthill/Pelham
DESCRIPTION:
URL:https://meditationinniagara.org/event/fonthill-pelham-31/
CATEGORIES:General Program Meditation Class
END:VEVENT
END:VCALENDAR