BEGIN:VCALENDAR
VERSION:2.0
PRODID:-//Meditation In Niagara - ECPv6.15.20//NONSGML v1.0//EN
CALSCALE:GREGORIAN
METHOD:PUBLISH
X-WR-CALNAME:Meditation In Niagara
X-ORIGINAL-URL:https://meditationinniagara.org
X-WR-CALDESC:Events for Meditation In Niagara
REFRESH-INTERVAL;VALUE=DURATION:PT1H
X-Robots-Tag:noindex
X-PUBLISHED-TTL:PT1H
BEGIN:VTIMEZONE
TZID:America/Toronto
BEGIN:DAYLIGHT
TZOFFSETFROM:-0500
TZOFFSETTO:-0400
TZNAME:EDT
DTSTART:20180311T070000
END:DAYLIGHT
BEGIN:STANDARD
TZOFFSETFROM:-0400
TZOFFSETTO:-0500
TZNAME:EST
DTSTART:20181104T060000
END:STANDARD
BEGIN:DAYLIGHT
TZOFFSETFROM:-0500
TZOFFSETTO:-0400
TZNAME:EDT
DTSTART:20190310T070000
END:DAYLIGHT
BEGIN:STANDARD
TZOFFSETFROM:-0400
TZOFFSETTO:-0500
TZNAME:EST
DTSTART:20191103T060000
END:STANDARD
BEGIN:DAYLIGHT
TZOFFSETFROM:-0500
TZOFFSETTO:-0400
TZNAME:EDT
DTSTART:20200308T070000
END:DAYLIGHT
BEGIN:STANDARD
TZOFFSETFROM:-0400
TZOFFSETTO:-0500
TZNAME:EST
DTSTART:20201101T060000
END:STANDARD
BEGIN:DAYLIGHT
TZOFFSETFROM:-0500
TZOFFSETTO:-0400
TZNAME:EDT
DTSTART:20210314T070000
END:DAYLIGHT
BEGIN:STANDARD
TZOFFSETFROM:-0400
TZOFFSETTO:-0500
TZNAME:EST
DTSTART:20211107T060000
END:STANDARD
END:VTIMEZONE
BEGIN:VEVENT
DTSTART;TZID=America/Toronto:20200123T190000
DTEND;TZID=America/Toronto:20200123T210000
DTSTAMP:20260422T024533
CREATED:20191213T171930Z
LAST-MODIFIED:20191213T171930Z
UID:4711-1579806000-1579813200@meditationinniagara.org
SUMMARY:St Catharines
DESCRIPTION:
URL:https://meditationinniagara.org/event/st-catharines-3/
CATEGORIES:General Program Meditation Class
END:VEVENT
BEGIN:VEVENT
DTSTART;TZID=America/Toronto:20200121T190000
DTEND;TZID=America/Toronto:20200121T210000
DTSTAMP:20260422T024534
CREATED:20191213T171327Z
LAST-MODIFIED:20191213T171327Z
UID:4701-1579633200-1579640400@meditationinniagara.org
SUMMARY:Fonthill/Pelham
DESCRIPTION:
URL:https://meditationinniagara.org/event/fonthill-pelham-3/
CATEGORIES:General Program Meditation Class
END:VEVENT
BEGIN:VEVENT
DTSTART;TZID=America/Toronto:20200119T173000
DTEND;TZID=America/Toronto:20200119T203000
DTSTAMP:20260422T024534
CREATED:20191213T172910Z
LAST-MODIFIED:20191213T172910Z
UID:4722-1579455000-1579465800@meditationinniagara.org
SUMMARY:Foundation Program
DESCRIPTION:
URL:https://meditationinniagara.org/event/foundation-program-3/
CATEGORIES:Foundation Program
END:VEVENT
BEGIN:VEVENT
DTSTART;VALUE=DATE:20200118
DTEND;VALUE=DATE:20200119
DTSTAMP:20260422T024534
CREATED:20191222T144649Z
LAST-MODIFIED:20191222T144649Z
UID:4796-1579305600-1579391999@meditationinniagara.org
SUMMARY:Guru Yoga Mandala Retreat
DESCRIPTION:
URL:https://meditationinniagara.org/event/guru-yoga-mandala-retreat/
CATEGORIES:Meditation Retreat
END:VEVENT
BEGIN:VEVENT
DTSTART;TZID=America/Toronto:20200116T190000
DTEND;TZID=America/Toronto:20200116T210000
DTSTAMP:20260422T024534
CREATED:20191213T171817Z
LAST-MODIFIED:20191213T171817Z
UID:4709-1579201200-1579208400@meditationinniagara.org
SUMMARY:St Catharines
DESCRIPTION:
URL:https://meditationinniagara.org/event/st-catharines-2/
CATEGORIES:General Program Meditation Class
END:VEVENT
BEGIN:VEVENT
DTSTART;TZID=America/Toronto:20200114T190000
DTEND;TZID=America/Toronto:20200114T210000
DTSTAMP:20260422T024534
CREATED:20191213T171211Z
LAST-MODIFIED:20191213T171211Z
UID:4699-1579028400-1579035600@meditationinniagara.org
SUMMARY:Fonthill/Pelham
DESCRIPTION:
URL:https://meditationinniagara.org/event/fonthill-pelham-2/
CATEGORIES:General Program Meditation Class
END:VEVENT
BEGIN:VEVENT
DTSTART;TZID=America/Toronto:20200112T173000
DTEND;TZID=America/Toronto:20200112T203000
DTSTAMP:20260422T024534
CREATED:20191213T172423Z
LAST-MODIFIED:20191213T172423Z
UID:4719-1578850200-1578861000@meditationinniagara.org
SUMMARY:Foundation Program
DESCRIPTION:
URL:https://meditationinniagara.org/event/foundation-program-2/
CATEGORIES:Foundation Program
END:VEVENT
BEGIN:VEVENT
DTSTART;TZID=America/Toronto:20200109T190000
DTEND;TZID=America/Toronto:20200109T210000
DTSTAMP:20260422T024534
CREATED:20191213T171712Z
LAST-MODIFIED:20191213T171712Z
UID:4707-1578596400-1578603600@meditationinniagara.org
SUMMARY:St Catharines
DESCRIPTION:
URL:https://meditationinniagara.org/event/st-catharines/
CATEGORIES:General Program Meditation Class
END:VEVENT
BEGIN:VEVENT
DTSTART;TZID=America/Toronto:20200107T190000
DTEND;TZID=America/Toronto:20200107T210000
DTSTAMP:20260422T024534
CREATED:20191212T114153Z
LAST-MODIFIED:20200102T235617Z
UID:4691-1578423600-1578430800@meditationinniagara.org
SUMMARY:Fonthill/Pelham
DESCRIPTION:
URL:https://meditationinniagara.org/event/fonthill-pelham/
CATEGORIES:General Program Meditation Class
END:VEVENT
BEGIN:VEVENT
DTSTART;TZID=America/Toronto:20200105T173000
DTEND;TZID=America/Toronto:20200105T203000
DTSTAMP:20260422T024534
CREATED:20191213T172333Z
LAST-MODIFIED:20191213T172333Z
UID:4717-1578245400-1578256200@meditationinniagara.org
SUMMARY:Foundation Program
DESCRIPTION:
URL:https://meditationinniagara.org/event/foundation-program/
CATEGORIES:Foundation Program
END:VEVENT
BEGIN:VEVENT
DTSTART;TZID=America/Toronto:20191231T190000
DTEND;TZID=America/Toronto:20191231T200000
DTSTAMP:20260422T024534
CREATED:20190113T164101Z
LAST-MODIFIED:20190113T164101Z
UID:4311-1577818800-1577822400@meditationinniagara.org
SUMMARY:Amitayus Long Life Puja
DESCRIPTION:
URL:https://meditationinniagara.org/event/amitayus-long-life-puja/
CATEGORIES:Chanted Prayers
END:VEVENT
BEGIN:VEVENT
DTSTART;TZID=America/Toronto:20191219T190000
DTEND;TZID=America/Toronto:20191219T210000
DTSTAMP:20260422T024534
CREATED:20190719T233345Z
LAST-MODIFIED:20190719T233345Z
UID:4623-1576782000-1576789200@meditationinniagara.org
SUMMARY:St Catharines
DESCRIPTION:
URL:https://meditationinniagara.org/event/st-catharines-127/
CATEGORIES:General Program Meditation Class
END:VEVENT
BEGIN:VEVENT
DTSTART;TZID=America/Toronto:20191217T190000
DTEND;TZID=America/Toronto:20191217T210000
DTSTAMP:20260422T024534
CREATED:20190719T231641Z
LAST-MODIFIED:20190719T231641Z
UID:4601-1576609200-1576616400@meditationinniagara.org
SUMMARY:Fonthill/Pelham
DESCRIPTION:
URL:https://meditationinniagara.org/event/fonthill-pelham-56/
CATEGORIES:General Program Meditation Class
END:VEVENT
BEGIN:VEVENT
DTSTART;TZID=America/Toronto:20191215T173000
DTEND;TZID=America/Toronto:20191215T203000
DTSTAMP:20260422T024534
CREATED:20190113T163818Z
LAST-MODIFIED:20190113T163818Z
UID:4307-1576431000-1576441800@meditationinniagara.org
SUMMARY:Foundation Program
DESCRIPTION:
URL:https://meditationinniagara.org/event/foundation-program-89/
CATEGORIES:Foundation Program
END:VEVENT
BEGIN:VEVENT
DTSTART;TZID=America/Toronto:20191212T190000
DTEND;TZID=America/Toronto:20191212T210000
DTSTAMP:20260422T024534
CREATED:20190719T233222Z
LAST-MODIFIED:20190719T233222Z
UID:4621-1576177200-1576184400@meditationinniagara.org
SUMMARY:St Catharines
DESCRIPTION:
URL:https://meditationinniagara.org/event/st-catharines-126/
CATEGORIES:General Program Meditation Class
END:VEVENT
BEGIN:VEVENT
DTSTART;TZID=America/Toronto:20191210T190000
DTEND;TZID=America/Toronto:20191210T210000
DTSTAMP:20260422T024534
CREATED:20190719T231514Z
LAST-MODIFIED:20190719T231514Z
UID:4599-1576004400-1576011600@meditationinniagara.org
SUMMARY:Fonthill/Pelham
DESCRIPTION:
URL:https://meditationinniagara.org/event/fonthill-pelham-55/
CATEGORIES:General Program Meditation Class
END:VEVENT
BEGIN:VEVENT
DTSTART;TZID=America/Toronto:20191208T173000
DTEND;TZID=America/Toronto:20191208T203000
DTSTAMP:20260422T024534
CREATED:20190113T163735Z
LAST-MODIFIED:20190113T163735Z
UID:4305-1575826200-1575837000@meditationinniagara.org
SUMMARY:Foundation Program
DESCRIPTION:
URL:https://meditationinniagara.org/event/foundation-program-88/
CATEGORIES:Foundation Program
END:VEVENT
BEGIN:VEVENT
DTSTART;TZID=America/Toronto:20191205T190000
DTEND;TZID=America/Toronto:20191205T210000
DTSTAMP:20260422T024534
CREATED:20190719T232822Z
LAST-MODIFIED:20190719T232822Z
UID:4617-1575572400-1575579600@meditationinniagara.org
SUMMARY:St Catharines
DESCRIPTION:
URL:https://meditationinniagara.org/event/st-catharines-124/
CATEGORIES:General Program Meditation Class
END:VEVENT
BEGIN:VEVENT
DTSTART;TZID=America/Toronto:20191203T190000
DTEND;TZID=America/Toronto:20191203T210000
DTSTAMP:20260422T024534
CREATED:20190719T231411Z
LAST-MODIFIED:20190719T231411Z
UID:4597-1575399600-1575406800@meditationinniagara.org
SUMMARY:Fonthill/Pelham
DESCRIPTION:
URL:https://meditationinniagara.org/event/fonthill-pelham-54/
CATEGORIES:General Program Meditation Class
END:VEVENT
BEGIN:VEVENT
DTSTART;TZID=America/Toronto:20191201T173000
DTEND;TZID=America/Toronto:20191201T203000
DTSTAMP:20260422T024534
CREATED:20190113T163646Z
LAST-MODIFIED:20190113T163646Z
UID:4303-1575221400-1575232200@meditationinniagara.org
SUMMARY:Foundation Program
DESCRIPTION:
URL:https://meditationinniagara.org/event/foundation-program-87/
CATEGORIES:Foundation Program
END:VEVENT
BEGIN:VEVENT
DTSTART;TZID=America/Toronto:20191128T190000
DTEND;TZID=America/Toronto:20191128T210000
DTSTAMP:20260422T024534
CREATED:20190719T233010Z
LAST-MODIFIED:20190719T233010Z
UID:4619-1574967600-1574974800@meditationinniagara.org
SUMMARY:St Catharines
DESCRIPTION:
URL:https://meditationinniagara.org/event/st-catharines-125/
CATEGORIES:General Program Meditation Class
END:VEVENT
BEGIN:VEVENT
DTSTART;TZID=America/Toronto:20191126T190000
DTEND;TZID=America/Toronto:20191126T210000
DTSTAMP:20260422T024534
CREATED:20190719T231307Z
LAST-MODIFIED:20190719T231307Z
UID:4595-1574794800-1574802000@meditationinniagara.org
SUMMARY:Fonthill/Pelham
DESCRIPTION:
URL:https://meditationinniagara.org/event/fonthill-pelham-53/
CATEGORIES:General Program Meditation Class
END:VEVENT
BEGIN:VEVENT
DTSTART;TZID=America/Toronto:20191124T173000
DTEND;TZID=America/Toronto:20191124T203000
DTSTAMP:20260422T024534
CREATED:20190113T163554Z
LAST-MODIFIED:20190113T163554Z
UID:4301-1574616600-1574627400@meditationinniagara.org
SUMMARY:Foundation Program
DESCRIPTION:
URL:https://meditationinniagara.org/event/foundation-program-86/
CATEGORIES:Foundation Program
END:VEVENT
BEGIN:VEVENT
DTSTART;TZID=America/Toronto:20191123T090000
DTEND;TZID=America/Toronto:20191123T170000
DTSTAMP:20260422T024534
CREATED:20190728T224800Z
LAST-MODIFIED:20190728T224926Z
UID:4633-1574499600-1574528400@meditationinniagara.org
SUMMARY:Refuge Day Retreat
DESCRIPTION:
URL:https://meditationinniagara.org/event/refuge-retreat/
CATEGORIES:Meditation Retreat
END:VEVENT
BEGIN:VEVENT
DTSTART;TZID=America/Toronto:20191121T190000
DTEND;TZID=America/Toronto:20191121T210000
DTSTAMP:20260422T024534
CREATED:20190719T232634Z
LAST-MODIFIED:20190719T232634Z
UID:4615-1574362800-1574370000@meditationinniagara.org
SUMMARY:St Catharines
DESCRIPTION:
URL:https://meditationinniagara.org/event/st-catharines-123/
CATEGORIES:General Program Meditation Class
END:VEVENT
BEGIN:VEVENT
DTSTART;TZID=America/Toronto:20191119T190000
DTEND;TZID=America/Toronto:20191119T210000
DTSTAMP:20260422T024534
CREATED:20190719T231155Z
LAST-MODIFIED:20190719T231155Z
UID:4593-1574190000-1574197200@meditationinniagara.org
SUMMARY:Fonthill/Pelham
DESCRIPTION:
URL:https://meditationinniagara.org/event/fonthill-pelham-52/
CATEGORIES:General Program Meditation Class
END:VEVENT
BEGIN:VEVENT
DTSTART;TZID=America/Toronto:20191117T173000
DTEND;TZID=America/Toronto:20191117T203000
DTSTAMP:20260422T024534
CREATED:20190113T163512Z
LAST-MODIFIED:20190113T163512Z
UID:4299-1574011800-1574022600@meditationinniagara.org
SUMMARY:Foundation Program
DESCRIPTION:
URL:https://meditationinniagara.org/event/foundation-program-85/
CATEGORIES:Foundation Program
END:VEVENT
BEGIN:VEVENT
DTSTART;TZID=America/Toronto:20191114T190000
DTEND;TZID=America/Toronto:20191114T210000
DTSTAMP:20260422T024534
CREATED:20190719T232508Z
LAST-MODIFIED:20190719T232508Z
UID:4613-1573758000-1573765200@meditationinniagara.org
SUMMARY:St Catharines
DESCRIPTION:
URL:https://meditationinniagara.org/event/st-catharines-122/
CATEGORIES:General Program Meditation Class
END:VEVENT
BEGIN:VEVENT
DTSTART;TZID=America/Toronto:20191112T190000
DTEND;TZID=America/Toronto:20191112T210000
DTSTAMP:20260422T024534
CREATED:20190719T231029Z
LAST-MODIFIED:20190719T231029Z
UID:4591-1573585200-1573592400@meditationinniagara.org
SUMMARY:Fonthill/Pelham
DESCRIPTION:
URL:https://meditationinniagara.org/event/fonthill-pelham-51/
CATEGORIES:General Program Meditation Class
END:VEVENT
BEGIN:VEVENT
DTSTART;TZID=America/Toronto:20191108T193000
DTEND;TZID=America/Toronto:20191110T180000
DTSTAMP:20260422T024534
CREATED:20190824T130723Z
LAST-MODIFIED:20190824T130723Z
UID:4649-1573241400-1573408800@meditationinniagara.org
SUMMARY:Ontario Dharma Celebration
DESCRIPTION:
URL:https://meditationinniagara.org/event/ontario-dharma-celebration/
LOCATION:Kadampa Meditation Centre Canada\, 631 Crawford St\, Toronto\, Ontario\, M6G 3K1
END:VEVENT
END:VCALENDAR