BEGIN:VCALENDAR
VERSION:2.0
PRODID:-//Meditation In Niagara - ECPv6.15.20//NONSGML v1.0//EN
CALSCALE:GREGORIAN
METHOD:PUBLISH
X-WR-CALNAME:Meditation In Niagara
X-ORIGINAL-URL:https://meditationinniagara.org
X-WR-CALDESC:Events for Meditation In Niagara
REFRESH-INTERVAL;VALUE=DURATION:PT1H
X-Robots-Tag:noindex
X-PUBLISHED-TTL:PT1H
BEGIN:VTIMEZONE
TZID:America/Toronto
BEGIN:DAYLIGHT
TZOFFSETFROM:-0500
TZOFFSETTO:-0400
TZNAME:EDT
DTSTART:20180311T070000
END:DAYLIGHT
BEGIN:STANDARD
TZOFFSETFROM:-0400
TZOFFSETTO:-0500
TZNAME:EST
DTSTART:20181104T060000
END:STANDARD
BEGIN:DAYLIGHT
TZOFFSETFROM:-0500
TZOFFSETTO:-0400
TZNAME:EDT
DTSTART:20190310T070000
END:DAYLIGHT
BEGIN:STANDARD
TZOFFSETFROM:-0400
TZOFFSETTO:-0500
TZNAME:EST
DTSTART:20191103T060000
END:STANDARD
BEGIN:DAYLIGHT
TZOFFSETFROM:-0500
TZOFFSETTO:-0400
TZNAME:EDT
DTSTART:20200308T070000
END:DAYLIGHT
BEGIN:STANDARD
TZOFFSETFROM:-0400
TZOFFSETTO:-0500
TZNAME:EST
DTSTART:20201101T060000
END:STANDARD
END:VTIMEZONE
BEGIN:VEVENT
DTSTART;TZID=America/Toronto:20190205T190000
DTEND;TZID=America/Toronto:20190205T210000
DTSTAMP:20260422T220510
CREATED:20181204T230453Z
LAST-MODIFIED:20181231T061906Z
UID:4105-1549393200-1549400400@meditationinniagara.org
SUMMARY:Fonthill/Pelham
DESCRIPTION:
URL:https://meditationinniagara.org/event/fonthill-pelham-22/
CATEGORIES:General Program Meditation Class
END:VEVENT
BEGIN:VEVENT
DTSTART;TZID=America/Toronto:20190203T173000
DTEND;TZID=America/Toronto:20190203T203000
DTSTAMP:20260422T220510
CREATED:20181204T231703Z
LAST-MODIFIED:20181204T231703Z
UID:4125-1549215000-1549225800@meditationinniagara.org
SUMMARY:Foundation Program
DESCRIPTION:
URL:https://meditationinniagara.org/event/foundation-program-62/
CATEGORIES:Foundation Program
END:VEVENT
BEGIN:VEVENT
DTSTART;TZID=America/Toronto:20190131T190000
DTEND;TZID=America/Toronto:20190131T210000
DTSTAMP:20260422T220510
CREATED:20181204T231006Z
LAST-MODIFIED:20181231T062010Z
UID:4113-1548961200-1548968400@meditationinniagara.org
SUMMARY:St Catharines
DESCRIPTION:
URL:https://meditationinniagara.org/event/st-catharines-94/
CATEGORIES:General Program Meditation Class
END:VEVENT
BEGIN:VEVENT
DTSTART;TZID=America/Toronto:20190129T190000
DTEND;TZID=America/Toronto:20190129T210000
DTSTAMP:20260422T220510
CREATED:20181204T230338Z
LAST-MODIFIED:20181231T062105Z
UID:4103-1548788400-1548795600@meditationinniagara.org
SUMMARY:Fonthill/Pelham
DESCRIPTION:
URL:https://meditationinniagara.org/event/fonthill-pelham-21/
CATEGORIES:General Program Meditation Class
END:VEVENT
BEGIN:VEVENT
DTSTART;TZID=America/Toronto:20190127T173000
DTEND;TZID=America/Toronto:20190127T203000
DTSTAMP:20260422T220510
CREATED:20181204T231601Z
LAST-MODIFIED:20181204T231601Z
UID:4123-1548610200-1548621000@meditationinniagara.org
SUMMARY:Foundation Program
DESCRIPTION:
URL:https://meditationinniagara.org/event/foundation-program-61/
CATEGORIES:Foundation Program
END:VEVENT
BEGIN:VEVENT
DTSTART;TZID=America/Toronto:20190126T100000
DTEND;TZID=America/Toronto:20190126T130000
DTSTAMP:20260422T220510
CREATED:20181212T230438Z
LAST-MODIFIED:20181212T230438Z
UID:4133-1548496800-1548507600@meditationinniagara.org
SUMMARY:Day Course
DESCRIPTION:
URL:https://meditationinniagara.org/event/day-course-20/
CATEGORIES:Day Course
END:VEVENT
BEGIN:VEVENT
DTSTART;TZID=America/Toronto:20190124T190000
DTEND;TZID=America/Toronto:20190124T210000
DTSTAMP:20260422T220510
CREATED:20181204T230914Z
LAST-MODIFIED:20181231T062149Z
UID:4111-1548356400-1548363600@meditationinniagara.org
SUMMARY:St Catharines
DESCRIPTION:
URL:https://meditationinniagara.org/event/st-catharines-93/
CATEGORIES:General Program Meditation Class
END:VEVENT
BEGIN:VEVENT
DTSTART;TZID=America/Toronto:20190122T190000
DTEND;TZID=America/Toronto:20190122T210000
DTSTAMP:20260422T220510
CREATED:20181204T230103Z
LAST-MODIFIED:20181231T062232Z
UID:4099-1548183600-1548190800@meditationinniagara.org
SUMMARY:Fonthill/Pelham
DESCRIPTION:
URL:https://meditationinniagara.org/event/fonthill-pelham-19/
CATEGORIES:Chanted Prayers
END:VEVENT
BEGIN:VEVENT
DTSTART;TZID=America/Toronto:20190120T173000
DTEND;TZID=America/Toronto:20190120T203000
DTSTAMP:20260422T220510
CREATED:20181204T231509Z
LAST-MODIFIED:20181204T231509Z
UID:4121-1548005400-1548016200@meditationinniagara.org
SUMMARY:Foundation Program
DESCRIPTION:
URL:https://meditationinniagara.org/event/foundation-program-60/
CATEGORIES:Foundation Program
END:VEVENT
BEGIN:VEVENT
DTSTART;TZID=America/Toronto:20190117T190000
DTEND;TZID=America/Toronto:20190117T210000
DTSTAMP:20260422T220510
CREATED:20181204T230807Z
LAST-MODIFIED:20181231T062303Z
UID:4109-1547751600-1547758800@meditationinniagara.org
SUMMARY:St Catharines
DESCRIPTION:
URL:https://meditationinniagara.org/event/st-catharines-92/
CATEGORIES:General Program Meditation Class
END:VEVENT
BEGIN:VEVENT
DTSTART;TZID=America/Toronto:20190115T190000
DTEND;TZID=America/Toronto:20190115T210000
DTSTAMP:20260422T220510
CREATED:20181204T230004Z
LAST-MODIFIED:20181231T062427Z
UID:4097-1547578800-1547586000@meditationinniagara.org
SUMMARY:Fonthill/Pelham
DESCRIPTION:
URL:https://meditationinniagara.org/event/fonthill-pelham-18/
CATEGORIES:General Program Meditation Class
END:VEVENT
BEGIN:VEVENT
DTSTART;TZID=America/Toronto:20190113T173000
DTEND;TZID=America/Toronto:20190113T203000
DTSTAMP:20260422T220510
CREATED:20181204T231423Z
LAST-MODIFIED:20181204T231423Z
UID:4119-1547400600-1547411400@meditationinniagara.org
SUMMARY:Foundation Program
DESCRIPTION:
URL:https://meditationinniagara.org/event/foundation-program-59/
CATEGORIES:Foundation Program
END:VEVENT
BEGIN:VEVENT
DTSTART;TZID=America/Toronto:20190110T190000
DTEND;TZID=America/Toronto:20190110T210000
DTSTAMP:20260422T220510
CREATED:20181204T230713Z
LAST-MODIFIED:20181231T062505Z
UID:4107-1547146800-1547154000@meditationinniagara.org
SUMMARY:St Catharines
DESCRIPTION:
URL:https://meditationinniagara.org/event/st-catharines-91/
CATEGORIES:General Program Meditation Class
END:VEVENT
BEGIN:VEVENT
DTSTART;TZID=America/Toronto:20190108T190000
DTEND;TZID=America/Toronto:20190108T210000
DTSTAMP:20260422T220510
CREATED:20181204T225902Z
LAST-MODIFIED:20181231T062543Z
UID:4095-1546974000-1546981200@meditationinniagara.org
SUMMARY:Fonthill/Pelham
DESCRIPTION:
URL:https://meditationinniagara.org/event/fonthill-pelham-17/
CATEGORIES:General Program Meditation Class
END:VEVENT
BEGIN:VEVENT
DTSTART;TZID=America/Toronto:20190106T173000
DTEND;TZID=America/Toronto:20190106T203000
DTSTAMP:20260422T220510
CREATED:20181204T231320Z
LAST-MODIFIED:20181204T231320Z
UID:4117-1546795800-1546806600@meditationinniagara.org
SUMMARY:Foundation Program
DESCRIPTION:
URL:https://meditationinniagara.org/event/foundation-program-58/
CATEGORIES:Foundation Program
END:VEVENT
END:VCALENDAR